BEGIN:VCALENDAR
VERSION:2.0
PRODID:-//Jewish Federation of CNY - ECPv6.15.17.1//NONSGML v1.0//EN
CALSCALE:GREGORIAN
METHOD:PUBLISH
X-WR-CALNAME:Jewish Federation of CNY
X-ORIGINAL-URL:https://jewishfederationcny.org
X-WR-CALDESC:Events for Jewish Federation of CNY
REFRESH-INTERVAL;VALUE=DURATION:PT1H
X-Robots-Tag:noindex
X-PUBLISHED-TTL:PT1H
BEGIN:VTIMEZONE
TZID:America/New_York
BEGIN:DAYLIGHT
TZOFFSETFROM:-0500
TZOFFSETTO:-0400
TZNAME:EDT
DTSTART:20250309T070000
END:DAYLIGHT
BEGIN:STANDARD
TZOFFSETFROM:-0400
TZOFFSETTO:-0500
TZNAME:EST
DTSTART:20251102T060000
END:STANDARD
BEGIN:DAYLIGHT
TZOFFSETFROM:-0500
TZOFFSETTO:-0400
TZNAME:EDT
DTSTART:20260308T070000
END:DAYLIGHT
BEGIN:STANDARD
TZOFFSETFROM:-0400
TZOFFSETTO:-0500
TZNAME:EST
DTSTART:20261101T060000
END:STANDARD
BEGIN:DAYLIGHT
TZOFFSETFROM:-0500
TZOFFSETTO:-0400
TZNAME:EDT
DTSTART:20270314T070000
END:DAYLIGHT
BEGIN:STANDARD
TZOFFSETFROM:-0400
TZOFFSETTO:-0500
TZNAME:EST
DTSTART:20271107T060000
END:STANDARD
END:VTIMEZONE
BEGIN:VEVENT
DTSTART;TZID=America/New_York:20260301T103000
DTEND;TZID=America/New_York:20260301T120000
DTSTAMP:20260421T061334
CREATED:20260216T142758Z
LAST-MODIFIED:20260216T142758Z
UID:10001463-1772361000-1772366400@jewishfederationcny.org
SUMMARY:Gan: Purim
DESCRIPTION:Gan is tailored for ages 2-5 but all ages welcome! Led by Rebbecca Oppedisano\, founder of Bluebird Music Together\, this toddler and preschool program is filled with learning through stories\, art\, music\, and movement! It is also a great way to meet parents of other little ones as we all learn together. \nEach monthly session features a holiday or theme.
URL:https://jewishfederationcny.org/event/gan-purim/
LOCATION:Temple Concord\, 450 Kimber Rd\, Syracuse\, NY\, 13224\, United States
ORGANIZER;CN="Aaron Spitzer-Temple Concord":MAILTO:aaron@templeconcord.org
GEO:43.0450714;-76.1335497
X-APPLE-STRUCTURED-LOCATION;VALUE=URI;X-ADDRESS=Temple Concord 450 Kimber Rd Syracuse NY 13224 United States;X-APPLE-RADIUS=500;X-TITLE=450 Kimber Rd:geo:-76.1335497,43.0450714
END:VEVENT
BEGIN:VEVENT
DTSTART;TZID=America/New_York:20260301T120000
DTEND;TZID=America/New_York:20260301T153000
DTSTAMP:20260421T061334
CREATED:20250326T185802Z
LAST-MODIFIED:20250326T185802Z
UID:10000947-1772366400-1772379000@jewishfederationcny.org
SUMMARY:Purim Carnival
DESCRIPTION:Additional details to follow
URL:https://jewishfederationcny.org/event/purim-carnival/
LOCATION:JCC of Syracuse\, 5655 Thompson Road\, DeWitt\, 13214\, United States
END:VEVENT
END:VCALENDAR