BEGIN:VCALENDAR
VERSION:2.0
PRODID:-//Jewish Federation of CNY - ECPv6.15.17.1//NONSGML v1.0//EN
CALSCALE:GREGORIAN
METHOD:PUBLISH
X-ORIGINAL-URL:https://jewishfederationcny.org
X-WR-CALDESC:Events for Jewish Federation of CNY
REFRESH-INTERVAL;VALUE=DURATION:PT1H
X-Robots-Tag:noindex
X-PUBLISHED-TTL:PT1H
BEGIN:VTIMEZONE
TZID:America/New_York
BEGIN:DAYLIGHT
TZOFFSETFROM:-0500
TZOFFSETTO:-0400
TZNAME:EDT
DTSTART:20250309T070000
END:DAYLIGHT
BEGIN:STANDARD
TZOFFSETFROM:-0400
TZOFFSETTO:-0500
TZNAME:EST
DTSTART:20251102T060000
END:STANDARD
BEGIN:DAYLIGHT
TZOFFSETFROM:-0500
TZOFFSETTO:-0400
TZNAME:EDT
DTSTART:20260308T070000
END:DAYLIGHT
BEGIN:STANDARD
TZOFFSETFROM:-0400
TZOFFSETTO:-0500
TZNAME:EST
DTSTART:20261101T060000
END:STANDARD
BEGIN:DAYLIGHT
TZOFFSETFROM:-0500
TZOFFSETTO:-0400
TZNAME:EDT
DTSTART:20270314T070000
END:DAYLIGHT
BEGIN:STANDARD
TZOFFSETFROM:-0400
TZOFFSETTO:-0500
TZNAME:EST
DTSTART:20271107T060000
END:STANDARD
END:VTIMEZONE
BEGIN:VEVENT
DTSTART;TZID=America/New_York:20260316T110000
DTEND;TZID=America/New_York:20260316T120000
DTSTAMP:20260421T100453
CREATED:20260216T141011Z
LAST-MODIFIED:20260216T143450Z
UID:10001460-1773658800-1773662400@jewishfederationcny.org
SUMMARY:Learning Disguised as Play: Children's Music Education in the Terezín Ghetto During the Holocaust
DESCRIPTION:“Learning Disguised as Play: Children’s Music Education in the Terezín Ghetto During the Holocaust” – Dr. Amanda Greenbacker-Mitchell ’17\, G’22\n \nAmanda Greenbacker-Mitchell is a proud Syracuse University alumna whose groundbreaking dissertation research focuses on Holocaust music education—specifically examining how children engaged with music while imprisoned in the Terezín ghetto. Her work bridges a critical gap in our understanding of life during this tragic period. \nNotably\, Amanda created educational materials for the Defiant Requiem Foundation\, demonstrating her deep commitment to preserving and sharing this important history. Her expertise offers invaluable context for audiences experiencing the Defiant Requiem performance. \nThis talk is part of a series of residency events organized in support of the Syracuse Orchestra and Syracuse University Oratorio Society’s performance of Defiant Requiem\, making it particularly relevant to your community members and audiences. \nWhile the musical activities of adults in Terezín have been well-documented\, the musical experiences of children in the ghetto remain largely unexplored. This talk bridges that critical gap in our understanding of life in Theresienstadt. \nDrawing from her dissertation research\, Professor Amanda Greenbacker-Mitchell ’17\, G’22 examines the nature of children’s music engagement while imprisoned in the Terezín (Theresienstadt) ghetto during the Holocaust between 1941 and 1945. Specifically\, she elucidates the ways children engaged with music in Terezín\, and categorizes those experiences into formal\, non-formal\, and informal music engagement practices. \nThis research offers valuable insights for scholars and practitioners in music education\, general education\, and Holocaust history. Through examining the nature of music engagement in Terezín\, we may better understand the daily lives of young people in the ghetto\, the creation of educational infrastructures in unstable circumstances\, and the rationale and practices of music education under perilous conditions. \nTerezin_Lecture_Greenbacker-Mitchell-mwedit012826
URL:https://jewishfederationcny.org/event/learning-disguised-as-play-childrens-music-education-in-the-terezin-ghetto-during-the-holocaust/
LOCATION:Peter Graham Scholarly Commons (Room 114)\, 222 Waverly Ave\, Syracuse\, NY\, 13244
END:VEVENT
BEGIN:VEVENT
DTSTART;TZID=America/New_York:20260317T190000
DTEND;TZID=America/New_York:20260317T200000
DTSTAMP:20260421T100453
CREATED:20250826T131418Z
LAST-MODIFIED:20250917T143140Z
UID:10001067-1773774000-1773777600@jewishfederationcny.org
SUMMARY:Federation Board Meeting
DESCRIPTION:
URL:https://jewishfederationcny.org/event/federation-board-meeting-8/
LOCATION:JCC of Syracuse\, 5655 Thompson Road\, DeWitt\, 13214\, United States
ORGANIZER;CN="Mark Segel":MAILTO:msegel@jewishfederationcny.org
END:VEVENT
BEGIN:VEVENT
DTSTART;TZID=America/New_York:20260318T193000
DTEND;TZID=America/New_York:20260318T203000
DTSTAMP:20260421T100453
CREATED:20250813T160018Z
LAST-MODIFIED:20250813T160018Z
UID:10001058-1773862200-1773865800@jewishfederationcny.org
SUMMARY:Temple Adath Yeshurun Board Meeting
DESCRIPTION:
URL:https://jewishfederationcny.org/event/temple-adath-yeshurun-board-meeting-8/
LOCATION:Temple Adath Yeshurun\, 450 Kimber Rd\, Syracuse\, NY\, 13224\, United States
ORGANIZER;CN="Alicia Gross":MAILTO:info@adath.org
END:VEVENT
BEGIN:VEVENT
DTSTART;TZID=America/New_York:20260318T193000
DTEND;TZID=America/New_York:20260318T203000
DTSTAMP:20260421T100453
CREATED:20260115T200443Z
LAST-MODIFIED:20260115T200443Z
UID:10001401-1773862200-1773865800@jewishfederationcny.org
SUMMARY:CBS-CS Board Meeting
DESCRIPTION:The board meetings are the third Wednesday in every month at 7:30pm. The only exception is February; the meeting will be on Thursday the 26th.
URL:https://jewishfederationcny.org/event/cbs-cs-board-meeting/2026-03-18/
LOCATION:18 Patsy Lane Jamesville\, NY 130778\, 18 Patsy Lane\, Jamesville\, NY\, 13078
END:VEVENT
BEGIN:VEVENT
DTSTART;VALUE=DATE:20260319
DTEND;VALUE=DATE:20260320
DTSTAMP:20260421T100453
CREATED:20230306T160955Z
LAST-MODIFIED:20230306T160955Z
UID:10000537-1773878400-1773964799@jewishfederationcny.org
SUMMARY:Rosh Chodesh Nisan
DESCRIPTION:Start of month of Nisan on the Hebrew calendar
URL:https://jewishfederationcny.org/event/rosh-chodesh-nisan-4/
LOCATION:NY
END:VEVENT
BEGIN:VEVENT
DTSTART;TZID=America/New_York:20260319T170000
DTEND;TZID=America/New_York:20260319T180000
DTSTAMP:20260421T100453
CREATED:20251001T174421Z
LAST-MODIFIED:20251001T183017Z
UID:10001120-1773939600-1773943200@jewishfederationcny.org
SUMMARY:Menorah Park Board Meeting
DESCRIPTION:
URL:https://jewishfederationcny.org/event/menorah-park-board-meeting/
LOCATION:Menorah Park\, 4101 E. Genesee Street\, Syracuse\, NY\, 13214
ORGANIZER;CN="Sheena Russell":MAILTO:srussell@menorahparkofcny.com
GEO:43.0382777;-76.0760575
X-APPLE-STRUCTURED-LOCATION;VALUE=URI;X-ADDRESS=Menorah Park 4101 E. Genesee Street Syracuse NY 13214;X-APPLE-RADIUS=500;X-TITLE=4101 E. Genesee Street:geo:-76.0760575,43.0382777
END:VEVENT
BEGIN:VEVENT
DTSTART;TZID=America/New_York:20260320T173000
DTEND;TZID=America/New_York:20260320T193000
DTSTAMP:20260421T100453
CREATED:20251120T204004Z
LAST-MODIFIED:20251120T204004Z
UID:10001372-1774027800-1774035000@jewishfederationcny.org
SUMMARY:TAY: Young Family Kabbalat Shabbat & Dinner
DESCRIPTION:Join us for a kid friendly Kabbalat Shabbat service followed by dinner together.
URL:https://jewishfederationcny.org/event/tay-young-family-kabbalat-shabbat-dinner/
LOCATION:450 Kimber Road Syracuse\, NY 13224\, 450 Kimber Road\, Syracuse\, NY\, 13224
ORGANIZER;CN="Alicia Gross":MAILTO:info@adath.org
END:VEVENT
BEGIN:VEVENT
DTSTART;TZID=America/New_York:20260320T180000
DTEND;TZID=America/New_York:20260320T200000
DTSTAMP:20260421T100453
CREATED:20260204T191905Z
LAST-MODIFIED:20260204T191905Z
UID:10001454-1774029600-1774036800@jewishfederationcny.org
SUMMARY:Shabbat Hadarot & Potluck
DESCRIPTION:Join CBS-CS for a potluck dinner\, followed by a service led by our shul school students!
URL:https://jewishfederationcny.org/event/shabbat-hadarot-potluck/
LOCATION:Congregation Beth Sholom-Chevra Shas\, 18 Patsy Lane\, Jamesville\, NY\, 13078\, United States
END:VEVENT
BEGIN:VEVENT
DTSTART;TZID=America/New_York:20260320T180000
DTEND;TZID=America/New_York:20260320T200000
DTSTAMP:20260421T100453
CREATED:20260310T191309Z
LAST-MODIFIED:20260310T191309Z
UID:10001491-1774029600-1774036800@jewishfederationcny.org
SUMMARY:Shabbat baBayit (Shabbat at Home)
DESCRIPTION:Shabbat baBayit invites us to step away from the building and return Shabbat to its most timeless setting — the dinner table. On Friday\, March 20\, 2026\, instead of gathering at Temple Concord\, we will meet in small groups in congregants’ homes to share Shabbat dinner\, conversation\, and a brief\, home-friendly service together. \nOn this Shabbat\, there will be no service at 450 Kimber Road for Temple Concord. \nInstead\, we’ll gather in intimate groups hosted by members of our community. \nEach home will have a volunteer service leader who will guide a short Shabbat ritual and discussion created by Rabbi & Cantor — simple\, meaningful\, and accessible to everyone. \nShabbat-baBayit-03-20-2026
URL:https://jewishfederationcny.org/event/shabbat-babayit-shabbat-at-home/
LOCATION:NY
ORGANIZER;CN="Aaron Spitzer-Temple Concord":MAILTO:aaron@templeconcord.org
END:VEVENT
BEGIN:VEVENT
DTSTART;TZID=America/New_York:20260321T113000
DTEND;TZID=America/New_York:20260321T123000
DTSTAMP:20260421T100453
CREATED:20251120T195011Z
LAST-MODIFIED:20251120T195011Z
UID:10001356-1774092600-1774096200@jewishfederationcny.org
SUMMARY:TAY: Lunch & Learn
DESCRIPTION:Join Rabbi Saks and Cantor Jaffe for lunch and learning after Shabbat morning services at Temple Adath Yeshurun.
URL:https://jewishfederationcny.org/event/tay-lunch-learn-3/
LOCATION:450 Kimber Road Syracuse\, NY 13224\, 450 Kimber Road\, Syracuse\, NY\, 13224
ORGANIZER;CN="Alicia Gross":MAILTO:info@adath.org
END:VEVENT
BEGIN:VEVENT
DTSTART;TZID=America/New_York:20260322T100000
DTEND;TZID=America/New_York:20260322T110000
DTSTAMP:20260421T100453
CREATED:20251231T142944Z
LAST-MODIFIED:20251231T142944Z
UID:10001388-1774173600-1774177200@jewishfederationcny.org
SUMMARY:"Heart of a Stranger" Reading Group
DESCRIPTION:Join CBS-CS Members for a group discussion on “Heart of a Stranger: An Unlikely Rabbi’s Story of Faith\, Identity\, and Belonging” by Rabbi Angela Buchdahl. Born in South Korea in 1972 and raised by a Korean Buddhist mother and an Ashkenazi Jewish father in Tacoma\, Washington\, Buchdahl went on to become the first Asian American ordained as a rabbi and first as a cantor. Her new memoir\, Heart of a Stranger: An Unlikely Rabbi’s Story of Faith\, Identity\, and Belonging\, traces that journey\, from the embracing Jewish community she grew up in to finding herself the answer to a Jeopardy question (“What is rabbi?”) — and\, even more bizarrely\, picking up the phone one day to hear a hostage-taking gunman make demands of her as the “chief rabbi of the United States.”
URL:https://jewishfederationcny.org/event/heart-of-a-stranger-reading-group/
LOCATION:18 Patsy Lane Jamesville\, NY 130778\, 18 Patsy Lane\, Jamesville\, NY\, 13078
ORGANIZER;CN="Joan Bordett":MAILTO:jbordett18@gmail.com
END:VEVENT
BEGIN:VEVENT
DTSTART;TZID=America/New_York:20260322T100000
DTEND;TZID=America/New_York:20260322T110000
DTSTAMP:20260421T100453
CREATED:20260319T135620Z
LAST-MODIFIED:20260319T135620Z
UID:10001495-1774173600-1774177200@jewishfederationcny.org
SUMMARY:Jewish Perspectives on the Environment with Nir Becker and Rabbi Emanuel
DESCRIPTION:Join us on Sunday\, March 22\, from 10:00–11:00 am at Temple Concord for a thoughtful and timely conversation on Jewish perspectives on the environment. \nRabbi Ilan Emanuel will be joined by environmental economist Nir Becker for an engaging discussion exploring how Jewish values\, tradition\, and contemporary environmental thinking can speak to the urgent challenges facing our world today. \nThis program offers a chance to reflect on the intersection of Judaism\, ethics\, and environmental responsibility through conversation that is both rooted in Jewish wisdom and deeply relevant to our present moment. \nAll are welcome.
URL:https://jewishfederationcny.org/event/jewish-perspectives-on-the-environment-with-nir-becker-and-rabbi-emanuel/
LOCATION:450 Kimber Road Syracuse\, NY 13224\, 450 Kimber Road\, Syracuse\, NY\, 13224
END:VEVENT
BEGIN:VEVENT
DTSTART;TZID=America/New_York:20260322T100000
DTEND;TZID=America/New_York:20260322T180000
DTSTAMP:20260421T100453
CREATED:20250910T191623Z
LAST-MODIFIED:20250910T191623Z
UID:10001105-1774173600-1774202400@jewishfederationcny.org
SUMMARY:SHDS Drama Production(Private Event)
DESCRIPTION:
URL:https://jewishfederationcny.org/event/shds-drama-productionprivate-event/
LOCATION:NY
END:VEVENT
BEGIN:VEVENT
DTSTART;TZID=America/New_York:20260322T110000
DTEND;TZID=America/New_York:20260322T120000
DTSTAMP:20260421T100453
CREATED:20251120T204219Z
LAST-MODIFIED:20251120T204625Z
UID:10001373-1774177200-1774180800@jewishfederationcny.org
SUMMARY:TAY: Tikkun Olam Day
DESCRIPTION:The Temple Adath Yeshurun Religious School invites you to participate in Tikkun Olam Day with projects to help others.
URL:https://jewishfederationcny.org/event/tay-tikkun-olam-day/
LOCATION:450 Kimber Road Syracuse\, NY 13224\, 450 Kimber Road\, Syracuse\, NY\, 13224
ORGANIZER;CN="Alicia Gross":MAILTO:info@adath.org
END:VEVENT
BEGIN:VEVENT
DTSTART;TZID=America/New_York:20260323T181500
DTEND;TZID=America/New_York:20260323T191500
DTSTAMP:20260421T100453
CREATED:20260128T195711Z
LAST-MODIFIED:20260128T195711Z
UID:10001445-1774289700-1774293300@jewishfederationcny.org
SUMMARY:JCC: Caregiver Series -- Building Foundations of Caregiving: The Empowered Caregiver
DESCRIPTION: \nThis course explores the role of caregiver and changes they may experience\, building a support team and managing caregiver stress. Presented by Kerri Green\, Program Manager at the Alzheimer’s Association of Central New York Chapter.
URL:https://jewishfederationcny.org/event/jcc-caregiver-series-building-foundations-of-caregiving-the-empowered-caregiver/
LOCATION:JCC of Syracuse\, 5655 Thompson Road\, DeWitt\, 13214\, United States
ORGANIZER;CN="Raven DiSalvo-Hess":MAILTO:rdisalvo-hess@jccsyr.org
END:VEVENT
BEGIN:VEVENT
DTSTART;TZID=America/New_York:20260324T120000
DTEND;TZID=America/New_York:20260324T130000
DTSTAMP:20260421T100453
CREATED:20260323T151007Z
LAST-MODIFIED:20260323T151017Z
UID:10001499-1774353600-1774357200@jewishfederationcny.org
SUMMARY:PJ Library and SOMA Fitness Mommy & Me Class
DESCRIPTION:PJ Library and SOMA Fitness are excited to invite you to a strength-focused Mommy & Me class that blends playful interaction with purposeful movement. Designed for moms and their little ones\, ages 0-2
URL:https://jewishfederationcny.org/event/pj-library-and-soma-fitness-mommy-me-class/
LOCATION:JCC of Syracuse\, 5655 Thompson Road\, DeWitt\, 13214\, United States
ORGANIZER;CN="Miriam Klaben":MAILTO:pjcny@jccsyr.org
END:VEVENT
BEGIN:VEVENT
DTSTART;TZID=America/New_York:20260324T180000
DTEND;TZID=America/New_York:20260324T190000
DTSTAMP:20260421T100453
CREATED:20250703T183923Z
LAST-MODIFIED:20250703T183923Z
UID:10000995-1774375200-1774378800@jewishfederationcny.org
SUMMARY:JCC Executive Committee Meeting
DESCRIPTION:
URL:https://jewishfederationcny.org/event/jcc-executive-committee-meeting-7/
LOCATION:JCC Conference Room\, 5655 Thompson Road\, DeWitt\, NY\, 13214
END:VEVENT
BEGIN:VEVENT
DTSTART;TZID=America/New_York:20260324T190000
DTEND;TZID=America/New_York:20260324T200000
DTSTAMP:20260421T100453
CREATED:20250703T183815Z
LAST-MODIFIED:20250703T183815Z
UID:10000994-1774378800-1774382400@jewishfederationcny.org
SUMMARY:JCC Board of Directors Meeting
DESCRIPTION:
URL:https://jewishfederationcny.org/event/jcc-board-of-directors-meeting-5/
LOCATION:JCC Auditorium
END:VEVENT
BEGIN:VEVENT
DTSTART;TZID=America/New_York:20260325T190000
DTEND;TZID=America/New_York:20260325T210000
DTSTAMP:20260421T100453
CREATED:20251120T205230Z
LAST-MODIFIED:20251120T205230Z
UID:10001375-1774465200-1774472400@jewishfederationcny.org
SUMMARY:TAY: Mah Jongg
DESCRIPTION:Join us for a fun evening of Mah Jongg whether you are just learning or an old pro!
URL:https://jewishfederationcny.org/event/tay-mah-jongg/
LOCATION:450 Kimber Road Syracuse\, NY 13224\, 450 Kimber Road\, Syracuse\, NY\, 13224
ORGANIZER;CN="Alicia Gross":MAILTO:info@adath.org
END:VEVENT
BEGIN:VEVENT
DTSTART;TZID=America/New_York:20260326T180000
DTEND;TZID=America/New_York:20260326T200000
DTSTAMP:20260421T100453
CREATED:20251203T201600Z
LAST-MODIFIED:20260120T170833Z
UID:10001380-1774548000-1774555200@jewishfederationcny.org
SUMMARY:JCC: Four Winters Film Screening
DESCRIPTION:Join the JCC for a screening of the powerful film Four Winters which celebrates the stories of courageous Jewish fighters who\, despite unimaginable odds\, fought back fiercely against Hitler’s war machine. Although the Nazis seized and murdered millions of Jews during World War II\, they failed to capture an estimated 25\,000 who escaped into the forests of Eastern Europe. Instead of simply hiding\, these young men and women — many of them teenagers — banded together to fight back\, carrying out deadly acts of sabotage\, staging ambushes\, and waging clandestine warfare against the Nazis and their collaborators. Featuring interviews with the last living Partisans and also using rare archival film footage\, letters\, historic war records\, and artifacts from Partisans’ personal collections\, the film weaves together many strands to shatter the myth of Jewish passivity. ** Film Screening will be following by Zoomed-in Q&A with director **
URL:https://jewishfederationcny.org/event/jcc-four-winters-film-screening/
LOCATION:JCC of Syracuse\, 5655 Thompson Road\, DeWitt\, 13214\, United States
ORGANIZER;CN="Raven DiSalvo-Hess":MAILTO:rdisalvo-hess@jccsyr.org
END:VEVENT
BEGIN:VEVENT
DTSTART;VALUE=DATE:20260328
DTEND;VALUE=DATE:20260329
DTSTAMP:20260421T100453
CREATED:20230306T160956Z
LAST-MODIFIED:20230306T160956Z
UID:10000538-1774656000-1774742399@jewishfederationcny.org
SUMMARY:Shabbat HaGadol
DESCRIPTION:Shabbat before Pesach
URL:https://jewishfederationcny.org/event/shabbat-hagadol-4/
LOCATION:NY
END:VEVENT
BEGIN:VEVENT
DTSTART;VALUE=DATE:20260328
DTEND;VALUE=DATE:20260329
DTSTAMP:20260421T100453
CREATED:20230306T160956Z
LAST-MODIFIED:20230306T160956Z
UID:10000539-1774656000-1774742399@jewishfederationcny.org
SUMMARY:Yom HaAliyah
DESCRIPTION:Recognizes Aliyah; immigration to the Jewish State of Israel
URL:https://jewishfederationcny.org/event/yom-haaliyah-9/
LOCATION:NY
END:VEVENT
BEGIN:VEVENT
DTSTART;TZID=America/New_York:20260328T093000
DTEND;TZID=America/New_York:20260328T103000
DTSTAMP:20260421T100453
CREATED:20260204T191158Z
LAST-MODIFIED:20260204T191158Z
UID:10001453-1774690200-1774693800@jewishfederationcny.org
SUMMARY:Pesach Lunch & Learn with Rabbi Steinitz
DESCRIPTION:Join CBS-CS for a Torah Study led by Rabbi Steinitz all about Pesach!
URL:https://jewishfederationcny.org/event/pesach-lunch-learn-with-rabbi-steinitz/
LOCATION:18 Patsy Lane Jamesville\, NY 130778\, 18 Patsy Lane\, Jamesville\, NY\, 13078
END:VEVENT
BEGIN:VEVENT
DTSTART;TZID=America/New_York:20260329T180000
DTEND;TZID=America/New_York:20260329T200000
DTSTAMP:20260421T100453
CREATED:20260122T195027Z
LAST-MODIFIED:20260122T195027Z
UID:10001434-1774807200-1774814400@jewishfederationcny.org
SUMMARY:Flavors of Judaism: India
DESCRIPTION:Temple Concord\, Flavors of Judaism \nWe’re excited to introduce Flavors of Judaism\, a new series where we explore Jewish communities around the world through food\, culture\, and conversation. \nOur first gathering takes us to India on Sunday\, February 8 at 6:00 PM. Over a shared meal\, we’ll discover the Jews of India including the Cochin community—one of the oldest in the world—and explore how they lived\, practiced Judaism\, and shaped their identity within Indian society. \nThis is a relaxed\, social evening with guided learning\, delicious food\, and great conversation. There is no cost to attend; participants are responsible for their own meals. Dinner locations will be sent upon registration. \nUpcoming in the series: \nMarch 29: Jews of Italy\nApril 19: Jews of Mexico \nJoin us for one dinner or embark on a culinary journey around the Jewish world. We hope to see you there!
URL:https://jewishfederationcny.org/event/flavors-of-judaism-india/2026-03-29/
LOCATION:NY
ORGANIZER;CN="Aaron Spitzer-Temple Concord":MAILTO:aaron@templeconcord.org
END:VEVENT
BEGIN:VEVENT
DTSTART;TZID=America/New_York:20260330T183000
DTEND;TZID=America/New_York:20260330T193000
DTSTAMP:20260421T100453
CREATED:20260223T150518Z
LAST-MODIFIED:20260223T151032Z
UID:10001465-1774895400-1774899000@jewishfederationcny.org
SUMMARY:JCC: Caregiver Series -- Support for Caregivers
DESCRIPTION:Join the JCC as we welcome Jessica Brown from the Onondaga County Office for the Aging for an overview on all the services and assistance the county offers for care givers.
URL:https://jewishfederationcny.org/event/jcc-caregiver-series-support-for-caregivers/
LOCATION:JCC Auditorium
ORGANIZER;CN="Raven DiSalvo-Hess":MAILTO:rdisalvo-hess@jccsyr.org
END:VEVENT
BEGIN:VEVENT
DTSTART;VALUE=DATE:20260401
DTEND;VALUE=DATE:20260402
DTSTAMP:20260421T100453
CREATED:20230306T160959Z
LAST-MODIFIED:20230306T160959Z
UID:10000540-1775001600-1775087999@jewishfederationcny.org
SUMMARY:Ta'anit Bechorot
DESCRIPTION:Fast of the First Born
URL:https://jewishfederationcny.org/event/taanit-bechorot-9/
LOCATION:NY
END:VEVENT
BEGIN:VEVENT
DTSTART;VALUE=DATE:20260401
DTEND;VALUE=DATE:20260402
DTSTAMP:20260421T100453
CREATED:20230306T160959Z
LAST-MODIFIED:20230306T160959Z
UID:10000541-1775001600-1775087999@jewishfederationcny.org
SUMMARY:Erev Pesach
DESCRIPTION:Passover; the Feast of Unleavened Bread
URL:https://jewishfederationcny.org/event/erev-pesach-9/
LOCATION:NY
END:VEVENT
BEGIN:VEVENT
DTSTART;TZID=America/New_York:20260401T180000
DTEND;TZID=America/New_York:20260401T213000
DTSTAMP:20260421T100453
CREATED:20260213T204024Z
LAST-MODIFIED:20260213T204024Z
UID:10001458-1775066400-1775079000@jewishfederationcny.org
SUMMARY:Congregational Pesach Seder
DESCRIPTION:Join your Temple Concord family for our first night Congregational Pesach Seder on Wednesday\, April 1st at 6:00 PM\, led by Rabbi Ilan Emanuel and Cantor Kari Siegel Eglash\, as we begin the festival the way our tradition intends — in community\, around the table\, telling our story. \nTogether we will move through the Haggadah\, lift our cups\, ask real questions\, sing the songs we know by heart\, and wrestle with what it means\, in this moment\, to move from Mitzrayim\, from narrowness\, toward freedom. \nA full kosher holiday meal\, lovingly prepared and catered by our own Joan and Lon Lowenstein\, will be served\, featuring all the traditional Seder foods. \nRegistration is required. All are welcome.
URL:https://jewishfederationcny.org/event/congregational-pesach-seder/
LOCATION:450 Kimber Road Syracuse\, NY 13224\, 450 Kimber Road\, Syracuse\, NY\, 13224
ORGANIZER;CN="Aaron Spitzer-Temple Concord":MAILTO:aaron@templeconcord.org
END:VEVENT
BEGIN:VEVENT
DTSTART;VALUE=DATE:20260402
DTEND;VALUE=DATE:20260403
DTSTAMP:20260421T100453
CREATED:20230306T161000Z
LAST-MODIFIED:20230306T161000Z
UID:10000542-1775088000-1775174399@jewishfederationcny.org
SUMMARY:Pesach I
DESCRIPTION:Passover; the Feast of Unleavened Bread
URL:https://jewishfederationcny.org/event/pesach-i-8/
LOCATION:NY
END:VEVENT
BEGIN:VEVENT
DTSTART;VALUE=DATE:20260403
DTEND;VALUE=DATE:20260404
DTSTAMP:20260421T100453
CREATED:20230306T161001Z
LAST-MODIFIED:20230306T161001Z
UID:10000543-1775174400-1775260799@jewishfederationcny.org
SUMMARY:Pesach II
DESCRIPTION:Passover; the Feast of Unleavened Bread
URL:https://jewishfederationcny.org/event/pesach-ii-9/
LOCATION:NY
END:VEVENT
END:VCALENDAR