BEGIN:VCALENDAR
VERSION:2.0
PRODID:-//Jewish Federation of CNY - ECPv6.15.17.1//NONSGML v1.0//EN
CALSCALE:GREGORIAN
METHOD:PUBLISH
X-ORIGINAL-URL:https://jewishfederationcny.org
X-WR-CALDESC:Events for Jewish Federation of CNY
REFRESH-INTERVAL;VALUE=DURATION:PT1H
X-Robots-Tag:noindex
X-PUBLISHED-TTL:PT1H
BEGIN:VTIMEZONE
TZID:America/New_York
BEGIN:DAYLIGHT
TZOFFSETFROM:-0500
TZOFFSETTO:-0400
TZNAME:EDT
DTSTART:20250309T070000
END:DAYLIGHT
BEGIN:STANDARD
TZOFFSETFROM:-0400
TZOFFSETTO:-0500
TZNAME:EST
DTSTART:20251102T060000
END:STANDARD
BEGIN:DAYLIGHT
TZOFFSETFROM:-0500
TZOFFSETTO:-0400
TZNAME:EDT
DTSTART:20260308T070000
END:DAYLIGHT
BEGIN:STANDARD
TZOFFSETFROM:-0400
TZOFFSETTO:-0500
TZNAME:EST
DTSTART:20261101T060000
END:STANDARD
BEGIN:DAYLIGHT
TZOFFSETFROM:-0500
TZOFFSETTO:-0400
TZNAME:EDT
DTSTART:20270314T070000
END:DAYLIGHT
BEGIN:STANDARD
TZOFFSETFROM:-0400
TZOFFSETTO:-0500
TZNAME:EST
DTSTART:20271107T060000
END:STANDARD
END:VTIMEZONE
BEGIN:VEVENT
DTSTART;VALUE=DATE:20260417
DTEND;VALUE=DATE:20260418
DTSTAMP:20260423T114535
CREATED:20230306T161014Z
LAST-MODIFIED:20230306T161014Z
UID:10000552-1776384000-1776470399@jewishfederationcny.org
SUMMARY:Rosh Chodesh Iyyar
DESCRIPTION:Start of month of Iyyar on the Hebrew calendar
URL:https://jewishfederationcny.org/event/rosh-chodesh-iyyar-7/
LOCATION:NY
END:VEVENT
BEGIN:VEVENT
DTSTART;TZID=America/New_York:20260417T173000
DTEND;TZID=America/New_York:20260417T183000
DTSTAMP:20260423T114535
CREATED:20260120T140502Z
LAST-MODIFIED:20260120T140502Z
UID:10001420-1776447000-1776450600@jewishfederationcny.org
SUMMARY:TAY: Shabbat B'Yachad
DESCRIPTION:Join Temple Adath Yeshurun for an uplifting\, musical\, Kabbalat Shabbat Service in person\, together.
URL:https://jewishfederationcny.org/event/tay-shabbat-byachad/2026-04-17/
LOCATION:450 Kimber Road Syracuse\, NY 13224\, 450 Kimber Road\, Syracuse\, NY\, 13224
ORGANIZER;CN="Alicia Gross":MAILTO:info@adath.org
END:VEVENT
BEGIN:VEVENT
DTSTART;VALUE=DATE:20260418
DTEND;VALUE=DATE:20260419
DTSTAMP:20260423T114535
CREATED:20230306T161015Z
LAST-MODIFIED:20230306T161015Z
UID:10000553-1776470400-1776556799@jewishfederationcny.org
SUMMARY:Rosh Chodesh Iyyar
DESCRIPTION:Start of month of Iyyar on the Hebrew calendar
URL:https://jewishfederationcny.org/event/rosh-chodesh-iyyar-8/
LOCATION:NY
END:VEVENT
BEGIN:VEVENT
DTSTART;TZID=America/New_York:20260419T093000
DTEND;TZID=America/New_York:20260419T160000
DTSTAMP:20260423T114535
CREATED:20251203T211005Z
LAST-MODIFIED:20251203T211005Z
UID:10001383-1776591000-1776614400@jewishfederationcny.org
SUMMARY:TAY: Religious School Field Trip to Safe Haven (Private Event)
DESCRIPTION:Private event for families enrolled in TAY Religious School
URL:https://jewishfederationcny.org/event/tay-religious-school-field-trip-to-safe-haven-private-event/
LOCATION:22 Barbara Donahue Drive Oswego\, NY 13126\, 22 Barbara Donahue Drive\, Oswego\, ny\, 13126
ORGANIZER;CN="Alicia Gross":MAILTO:info@adath.org
END:VEVENT
BEGIN:VEVENT
DTSTART;TZID=America/New_York:20260419T100000
DTEND;TZID=America/New_York:20260419T113000
DTSTAMP:20260423T114535
CREATED:20260330T131948Z
LAST-MODIFIED:20260330T131948Z
UID:10001507-1776592800-1776598200@jewishfederationcny.org
SUMMARY:We Will Dance Again: From Yom Hazikaron to Yom Ha'Azmaut
DESCRIPTION:Yom HaZikaron and Yom Ha’Atzmaut\, Israel’s Memorial and Independence Days\, are observed back-to-back\, creating one of the most striking rhythms in Israeli life. In the span of twenty-four hours\, the country moves from collective mourning to celebration\, a transition so intense that it can feel almost disorienting. Both days are marked by distinct rituals and ceremonies\, religious and secular alike. This class will explore how they are observed and what this transition reveals about Israeli culture and society.
URL:https://jewishfederationcny.org/event/we-will-dance-again-from-yom-hazikaron-to-yom-haazmaut/
LOCATION:Congregation Beth Sholom-Chevra Shas\, 18 Patsy Lane\, Jamesville\, NY\, 13078\, United States
END:VEVENT
BEGIN:VEVENT
DTSTART;TZID=America/New_York:20260419T130000
DTEND;TZID=America/New_York:20260419T140000
DTSTAMP:20260423T114535
CREATED:20260119T191508Z
LAST-MODIFIED:20260119T191508Z
UID:10001409-1776603600-1776607200@jewishfederationcny.org
SUMMARY:JCC: Cooling the Cities: The Economics of Shade\, Heat\, and Climate Adaptation
DESCRIPTION:In honor of Earth Day\, join the JCC for a lecture by Professor Nir Becker who is currently teaching at ESF while on sabbatical from Tel-Hai College in Israel. Professor Becker will discuss the urban heat island in Tel Aviv vs. Syracuse\, how shade saves energy and lives\, the hidden economics: how to quantify benefits and the role of municipalities and citizens. You will also get to engage in a discussion of “What does adaptation look like on my street?”
URL:https://jewishfederationcny.org/event/jcc-cooling-the-cities-the-economics-of-shade-heat-and-climate-adaptation/
LOCATION:JCC of Syracuse\, 5655 Thompson Road\, DeWitt\, 13214\, United States
ORGANIZER;CN="Raven DiSalvo-Hess":MAILTO:rdisalvo-hess@jccsyr.org
END:VEVENT
BEGIN:VEVENT
DTSTART;TZID=America/New_York:20260419T180000
DTEND;TZID=America/New_York:20260419T200000
DTSTAMP:20260423T114535
CREATED:20260122T195027Z
LAST-MODIFIED:20260122T195027Z
UID:10001435-1776621600-1776628800@jewishfederationcny.org
SUMMARY:Flavors of Judaism: India
DESCRIPTION:Temple Concord\, Flavors of Judaism \nWe’re excited to introduce Flavors of Judaism\, a new series where we explore Jewish communities around the world through food\, culture\, and conversation. \nOur first gathering takes us to India on Sunday\, February 8 at 6:00 PM. Over a shared meal\, we’ll discover the Jews of India including the Cochin community—one of the oldest in the world—and explore how they lived\, practiced Judaism\, and shaped their identity within Indian society. \nThis is a relaxed\, social evening with guided learning\, delicious food\, and great conversation. There is no cost to attend; participants are responsible for their own meals. Dinner locations will be sent upon registration. \nUpcoming in the series: \nMarch 29: Jews of Italy\nApril 19: Jews of Mexico \nJoin us for one dinner or embark on a culinary journey around the Jewish world. We hope to see you there!
URL:https://jewishfederationcny.org/event/flavors-of-judaism-india/2026-04-19/
LOCATION:NY
ORGANIZER;CN="Aaron Spitzer-Temple Concord":MAILTO:aaron@templeconcord.org
END:VEVENT
BEGIN:VEVENT
DTSTART;VALUE=DATE:20260421
DTEND;VALUE=DATE:20260422
DTSTAMP:20260423T114535
CREATED:20230306T161016Z
LAST-MODIFIED:20230306T161016Z
UID:10000554-1776729600-1776815999@jewishfederationcny.org
SUMMARY:Yom HaZikaron
DESCRIPTION:Israeli Memorial Day
URL:https://jewishfederationcny.org/event/yom-hazikaron-9/
LOCATION:NY
END:VEVENT
BEGIN:VEVENT
DTSTART;VALUE=DATE:20260422
DTEND;VALUE=DATE:20260423
DTSTAMP:20260423T114535
CREATED:20230306T161019Z
LAST-MODIFIED:20230306T161019Z
UID:10000555-1776816000-1776902399@jewishfederationcny.org
SUMMARY:Yom HaAtzma'ut
DESCRIPTION:Israeli Independence Day
URL:https://jewishfederationcny.org/event/yom-haatzmaut-10/
LOCATION:NY
END:VEVENT
BEGIN:VEVENT
DTSTART;TZID=America/New_York:20260422T173000
DTEND;TZID=America/New_York:20260422T200000
DTSTAMP:20260423T114535
CREATED:20260205T192903Z
LAST-MODIFIED:20260420T165517Z
UID:10001456-1776879000-1776888000@jewishfederationcny.org
SUMMARY:Yom Ha'Atzmaut Celebration 5768
DESCRIPTION:Yom HaZikaron Commemoration: 5:30pm to 6PM\nYom Ha’Azmaut Celebration: 6:00pm to 8:00pm \nEveryone is encourage to dress in blue & white or Israeli Flag themed outfits!\n*Reservation is required – http://jccsyr.org/yom-haatzmaut
URL:https://jewishfederationcny.org/event/yom-haatzmaut-celebration-5768/
LOCATION:450 Kimber Road Syracuse\, NY 13224\, 450 Kimber Road\, Syracuse\, NY\, 13224
END:VEVENT
BEGIN:VEVENT
DTSTART;TZID=America/New_York:20260424T173000
DTEND;TZID=America/New_York:20260424T183000
DTSTAMP:20260423T114535
CREATED:20260120T140502Z
LAST-MODIFIED:20260120T140502Z
UID:10001421-1777051800-1777055400@jewishfederationcny.org
SUMMARY:TAY: Shabbat B'Yachad
DESCRIPTION:Join Temple Adath Yeshurun for an uplifting\, musical\, Kabbalat Shabbat Service in person\, together.
URL:https://jewishfederationcny.org/event/tay-shabbat-byachad/2026-04-24/
LOCATION:450 Kimber Road Syracuse\, NY 13224\, 450 Kimber Road\, Syracuse\, NY\, 13224
ORGANIZER;CN="Alicia Gross":MAILTO:info@adath.org
END:VEVENT
BEGIN:VEVENT
DTSTART;TZID=America/New_York:20260426T100000
DTEND;TZID=America/New_York:20260426T110000
DTSTAMP:20260423T114535
CREATED:20260326T190021Z
LAST-MODIFIED:20260326T190021Z
UID:10001502-1777197600-1777201200@jewishfederationcny.org
SUMMARY:Sanctuary 101
DESCRIPTION:Would you like to feel more comfortable in the sanctuary? Have you ever wondered about the etiquette\, protocol\, or choreography at a service? Come to Susie Jacob’s mini course to learn what to do\, when\, and why\, from Tallit to Torah.
URL:https://jewishfederationcny.org/event/sanctuary-101/
LOCATION:Congregation Beth Sholom-Chevra Shas\, 18 Patsy Lane\, Jamesville\, NY\, 13078\, United States
END:VEVENT
BEGIN:VEVENT
DTSTART;TZID=America/New_York:20260426T100000
DTEND;TZID=America/New_York:20260426T113000
DTSTAMP:20260423T114535
CREATED:20260319T140134Z
LAST-MODIFIED:20260319T140134Z
UID:10001498-1777197600-1777203000@jewishfederationcny.org
SUMMARY:Shared Waters\, Shared Futures: Water\, Peace\, and Cooperation in the Middle East\,
DESCRIPTION:
URL:https://jewishfederationcny.org/event/shared-waters-shared-futures-water-peace-and-cooperation-in-the-middle-east/
LOCATION:450 Kimber Road Syracuse\, NY 13224\, 450 Kimber Road\, Syracuse\, NY\, 13224
END:VEVENT
BEGIN:VEVENT
DTSTART;TZID=America/New_York:20260426T110000
DTEND;TZID=America/New_York:20260426T120000
DTSTAMP:20260423T114535
CREATED:20251120T200721Z
LAST-MODIFIED:20260312T172942Z
UID:10001364-1777201200-1777204800@jewishfederationcny.org
SUMMARY:TAY: Rising Song
DESCRIPTION:Join Cantor Jaffe and others with your percussion instruments and/or voice as we make music together.
URL:https://jewishfederationcny.org/event/tay-rising-song-3/
LOCATION:450 Kimber Road Syracuse\, NY 13224\, 450 Kimber Road\, Syracuse\, NY\, 13224
ORGANIZER;CN="Alicia Gross":MAILTO:info@adath.org
END:VEVENT
BEGIN:VEVENT
DTSTART;TZID=America/New_York:20260426T120000
DTEND;TZID=America/New_York:20260426T160000
DTSTAMP:20260423T114535
CREATED:20251231T144709Z
LAST-MODIFIED:20251231T144709Z
UID:10001393-1777204800-1777219200@jewishfederationcny.org
SUMMARY:Menorah Park Board Retreat
DESCRIPTION:Board Retreat: Time TBD
URL:https://jewishfederationcny.org/event/menorah-park-board-retreat/
LOCATION:Menorah Park\, 4101 E. Genesee Street\, Syracuse\, NY\, 13214
ORGANIZER;CN="sheena racine":MAILTO:srussell@menorahparkofcny.com
GEO:43.0382777;-76.0760575
X-APPLE-STRUCTURED-LOCATION;VALUE=URI;X-ADDRESS=Menorah Park 4101 E. Genesee Street Syracuse NY 13214;X-APPLE-RADIUS=500;X-TITLE=4101 E. Genesee Street:geo:-76.0760575,43.0382777
END:VEVENT
BEGIN:VEVENT
DTSTART;TZID=America/New_York:20260426T130000
DTEND;TZID=America/New_York:20260426T140000
DTSTAMP:20260423T114535
CREATED:20260123T195823Z
LAST-MODIFIED:20260123T200138Z
UID:10001437-1777208400-1777212000@jewishfederationcny.org
SUMMARY:JCC: The Gilded Age on Syracuse’s James Street
DESCRIPTION:Join the JCC for a special presentation on historic James Street presented by Dennis Connors. From the 1890s to 1930s\, stately mansions lined Syracuse’s James Street\, their elegant gardens\, architecture\, and streetscapes a point of city-wide pride. More than just beautiful facades\, the mansions and people who inhabited them represented the cultural life\, political leadership\, industrial growth\, and social reform that animated Syracuse and the nation during this period of opulence.
URL:https://jewishfederationcny.org/event/jcc-the-gilded-age-on-syracuses-james-street/
LOCATION:JCC of Syracuse\, 5655 Thompson Road\, DeWitt\, 13214\, United States
ORGANIZER;CN="Raven DiSalvo-Hess":MAILTO:rdisalvo-hess@jccsyr.org
END:VEVENT
BEGIN:VEVENT
DTSTART;TZID=America/New_York:20260426T140000
DTEND;TZID=America/New_York:20260426T160000
DTSTAMP:20260423T114535
CREATED:20260423T133203Z
LAST-MODIFIED:20260423T133203Z
UID:10001515-1777212000-1777219200@jewishfederationcny.org
SUMMARY:3GNY Program at Jewish Center of Norwich
DESCRIPTION:Join us as we listen to the grandchildren of Holocaust survivors. By sharing their family histories\, they act as a living link to the past—preserving legacies and teaching the lessons necessary for the future.\n\nRegistration is required: https://sites.google.com/view/norwich-jewish-center/home
URL:https://jewishfederationcny.org/event/3gny-program-at-jewish-center-of-norwich/
LOCATION:Jewish Center of Norwich\, 72 South Broad Street\, Norwich\, NY\, 13815\, United States
END:VEVENT
BEGIN:VEVENT
DTSTART;TZID=America/New_York:20260426T150000
DTEND;TZID=America/New_York:20260426T170000
DTSTAMP:20260423T114535
CREATED:20251120T205858Z
LAST-MODIFIED:20251120T205858Z
UID:10001377-1777215600-1777222800@jewishfederationcny.org
SUMMARY:TAY: Family Bingo
DESCRIPTION:Join us for a good old fashioned game of Bingo for the whole family!
URL:https://jewishfederationcny.org/event/tay-family-bingo/
LOCATION:450 Kimber Road Syracuse\, NY 13224\, 450 Kimber Road\, Syracuse\, NY\, 13224
ORGANIZER;CN="Alicia Gross":MAILTO:info@adath.org
END:VEVENT
BEGIN:VEVENT
DTSTART;TZID=America/New_York:20260428T180000
DTEND;TZID=America/New_York:20260428T190000
DTSTAMP:20260423T114535
CREATED:20250703T184026Z
LAST-MODIFIED:20250703T184026Z
UID:10000996-1777399200-1777402800@jewishfederationcny.org
SUMMARY:JCC Executive Committee Meeting
DESCRIPTION:
URL:https://jewishfederationcny.org/event/jcc-executive-committee-meeting-8/
LOCATION:JCC Conference Room\, 5655 Thompson Road\, DeWitt\, NY\, 13214
END:VEVENT
BEGIN:VEVENT
DTSTART;TZID=America/New_York:20260429T183000
DTEND;TZID=America/New_York:20260429T200000
DTSTAMP:20260423T114535
CREATED:20250725T191259Z
LAST-MODIFIED:20250725T191259Z
UID:10001032-1777487400-1777492800@jewishfederationcny.org
SUMMARY:Epstein School Board Meeting
DESCRIPTION:Board Meeting of the Rabbi Jacob H. Epstein School of Jewish Studies
URL:https://jewishfederationcny.org/event/epstein-school-board-meeting-18/
LOCATION:450 Kimber Road Syracuse\, NY 13224\, 450 Kimber Road\, Syracuse\, NY\, 13224
ORGANIZER;CN="Aaron Spitzer":MAILTO:aaron@templeconcord.org
END:VEVENT
BEGIN:VEVENT
DTSTART;VALUE=DATE:20260501
DTEND;VALUE=DATE:20260502
DTSTAMP:20260423T114535
CREATED:20230306T161019Z
LAST-MODIFIED:20230306T161019Z
UID:10000556-1777593600-1777679999@jewishfederationcny.org
SUMMARY:Pesach Sheni
DESCRIPTION:Second Passover; one month after Passover
URL:https://jewishfederationcny.org/event/pesach-sheni-10/
LOCATION:NY
END:VEVENT
BEGIN:VEVENT
DTSTART;TZID=America/New_York:20260503T093000
DTEND;TZID=America/New_York:20260503T113000
DTSTAMP:20260423T114535
CREATED:20260316T204642Z
LAST-MODIFIED:20260316T204642Z
UID:10001493-1777800600-1777807800@jewishfederationcny.org
SUMMARY:Introduction to Health & Wellness with Dr. Indu Gupta
DESCRIPTION:An interactive conversation with Dr. Indu Gupta\, former Health Commissioner\, about health and wellness and what it means to us.
URL:https://jewishfederationcny.org/event/introduction-to-health-wellness-with-dr-indu-gupta/
LOCATION:Temple Adath Yeshurun\, 450 Kimber Rd\, Syracuse\, NY\, 13224\, United States
ORGANIZER;CN="Alicia Gross":MAILTO:info@adath.org
END:VEVENT
BEGIN:VEVENT
DTSTART;TZID=America/New_York:20260503T120000
DTEND;TZID=America/New_York:20260503T160000
DTSTAMP:20260423T114535
CREATED:20260204T185907Z
LAST-MODIFIED:20260204T190043Z
UID:10001451-1777809600-1777824000@jewishfederationcny.org
SUMMARY:Epstein School SUNY Cortland Hillel Visit
DESCRIPTION:Epstein students will travel to SUNY Cortland to discover what Jewish life is like on campus there.
URL:https://jewishfederationcny.org/event/epstein-school-suny-cortland-hillel-visit/
LOCATION:SUNY Cortland\, 22 Graham Ave\, Cortland\, 13045\, United States
ORGANIZER;CN="Aaron Spitzer":MAILTO:aaron@templeconcord.org
END:VEVENT
BEGIN:VEVENT
DTSTART;TZID=America/New_York:20260503T140000
DTEND;TZID=America/New_York:20260503T153000
DTSTAMP:20260423T114535
CREATED:20260414T135245Z
LAST-MODIFIED:20260414T135245Z
UID:10001510-1777816800-1777822200@jewishfederationcny.org
SUMMARY:Jewish Genealogical Society of CNY - Harry Altman Buffalo's Master Showman with author Susan Fenster
DESCRIPTION:Author Susan Fenster will speak on Building a Biography from Genealogical Clues. She wrote a book just published Harry Altman\, Buffalo’s Master Showman: Glen Casino\, Town Casino\, One Man’s Nightclub Empire. Experienced genealogists know that the most interesting lives often leave the fewest records. In researching Buffalo nightclub impresario Harry Altman\, author Susan Fenster relied on familiar ancestry tools and creativity to recover a life that once seemed lost to history.
URL:https://jewishfederationcny.org/event/jewish-genealogical-society-of-cny-harry-altman-buffalos-master-showman-with-author-susan-fenster/
LOCATION:JCC of Syracuse\, 5655 Thompson Road\, DeWitt\, 13214\, United States
ORGANIZER;CN="Sharon Shermans":MAILTO:JGSCNY@gmail.com
END:VEVENT
BEGIN:VEVENT
DTSTART;TZID=America/New_York:20260503T180000
DTEND;TZID=America/New_York:20260503T210000
DTSTAMP:20260423T114535
CREATED:20251104T164746Z
LAST-MODIFIED:20251104T164746Z
UID:10001150-1777831200-1777842000@jewishfederationcny.org
SUMMARY:SHDS Casino Night
DESCRIPTION: \nSHDS annual fundraiser event
URL:https://jewishfederationcny.org/event/shds-casino-night/
LOCATION:Syracuse Heberw Day School\, 5655 Thompson Road\, Syracuse\, NY\, 13214\, United States
ORGANIZER;CN="SHDS":MAILTO:info@shds.org
END:VEVENT
BEGIN:VEVENT
DTSTART;VALUE=DATE:20260505
DTEND;VALUE=DATE:20260506
DTSTAMP:20260423T114535
CREATED:20230306T161020Z
LAST-MODIFIED:20230306T161020Z
UID:10000322-1777939200-1778025599@jewishfederationcny.org
SUMMARY:Lag BaOmer
DESCRIPTION:33rd day of counting the Omer
URL:https://jewishfederationcny.org/event/lag-baomer-10/
LOCATION:NY
END:VEVENT
BEGIN:VEVENT
DTSTART;TZID=America/New_York:20260506T124500
DTEND;TZID=America/New_York:20260506T134500
DTSTAMP:20260423T114535
CREATED:20260216T135117Z
LAST-MODIFIED:20260216T135117Z
UID:10001459-1778071500-1778075100@jewishfederationcny.org
SUMMARY:JCC: Mystery Book Club - A Botanist’s Guide to Parties and Poisons\, by Kate Khavari
DESCRIPTION:Love a mystery? Then be sure to join us for the Mystery Book Club which explores classic who-dun-its\, thrillers and everything in between. This book club meets the first Wednesday of the month\, 12:45 – 1:45 pm.
URL:https://jewishfederationcny.org/event/jcc-mystery-book-club-a-botanists-guide-to-parties-and-poisons-by-kate-khavari/
LOCATION:JCC of Syracuse\, 5655 Thompson Road\, DeWitt\, 13214\, United States
ORGANIZER;CN="Raven DiSalvo-Hess":MAILTO:rdisalvo-hess@jccsyr.org
END:VEVENT
BEGIN:VEVENT
DTSTART;TZID=America/New_York:20260507T190000
DTEND;TZID=America/New_York:20260507T200000
DTSTAMP:20260423T114535
CREATED:20250826T131443Z
LAST-MODIFIED:20260304T145404Z
UID:10001068-1778180400-1778184000@jewishfederationcny.org
SUMMARY:Federation Board Meeting
DESCRIPTION:
URL:https://jewishfederationcny.org/event/federation-board-meeting-9/
LOCATION:JCC of Syracuse\, 5655 Thompson Road\, DeWitt\, 13214\, United States
ORGANIZER;CN="Mark Segel":MAILTO:msegel@jewishfederationcny.org
END:VEVENT
BEGIN:VEVENT
DTSTART;TZID=America/New_York:20260509T100000
DTEND;TZID=America/New_York:20260509T120000
DTSTAMP:20260423T114535
CREATED:20251111T163931Z
LAST-MODIFIED:20251111T163931Z
UID:10001346-1778320800-1778328000@jewishfederationcny.org
SUMMARY:Junior Congregation
DESCRIPTION: \nThis is a service for kids led by our amazing Teens. There will be games\, upbeat prayers\, an explanation about the Parsha (Torah portion) for the week\, and kids helping to lead certain prayers along with the Teens. We will head back to the main service to help lead Ein Keloheinu and other concluding prayers then enjoy an elevated kiddush together afterward.\n\n\n\n\n\n \nYou may attend one or all! Please RSVP for security and so we know how much food to prepare.\n\n\n\n\n\n \n\n\nunnamed.png
URL:https://jewishfederationcny.org/event/junior-congregation/2026-05-09/
LOCATION:450 Kimber Road Syracuse\, NY 13224\, 450 Kimber Road\, Syracuse\, NY\, 13224
ORGANIZER;CN="Alicia Gross":MAILTO:info@adath.org
END:VEVENT
BEGIN:VEVENT
DTSTART;TZID=America/New_York:20260509T113000
DTEND;TZID=America/New_York:20260509T123000
DTSTAMP:20260423T114535
CREATED:20251120T195251Z
LAST-MODIFIED:20251120T195251Z
UID:10001358-1778326200-1778329800@jewishfederationcny.org
SUMMARY:TAY: Lunch & Learn
DESCRIPTION:Join Rabbi Saks and Cantor Jaffe for lunch and learning after Shabbat morning services at Temple Adath Yeshurun.
URL:https://jewishfederationcny.org/event/tay-lunch-learn-5/
LOCATION:450 Kimber Road Syracuse\, NY 13224\, 450 Kimber Road\, Syracuse\, NY\, 13224
ORGANIZER;CN="Alicia Gross":MAILTO:info@adath.org
END:VEVENT
END:VCALENDAR