BEGIN:VCALENDAR
VERSION:2.0
PRODID:-//Jewish Federation of CNY - ECPv6.15.17.1//NONSGML v1.0//EN
CALSCALE:GREGORIAN
METHOD:PUBLISH
X-WR-CALNAME:Jewish Federation of CNY
X-ORIGINAL-URL:https://jewishfederationcny.org
X-WR-CALDESC:Events for Jewish Federation of CNY
REFRESH-INTERVAL;VALUE=DURATION:PT1H
X-Robots-Tag:noindex
X-PUBLISHED-TTL:PT1H
BEGIN:VTIMEZONE
TZID:America/New_York
BEGIN:DAYLIGHT
TZOFFSETFROM:-0500
TZOFFSETTO:-0400
TZNAME:EDT
DTSTART:20250309T070000
END:DAYLIGHT
BEGIN:STANDARD
TZOFFSETFROM:-0400
TZOFFSETTO:-0500
TZNAME:EST
DTSTART:20251102T060000
END:STANDARD
BEGIN:DAYLIGHT
TZOFFSETFROM:-0500
TZOFFSETTO:-0400
TZNAME:EDT
DTSTART:20260308T070000
END:DAYLIGHT
BEGIN:STANDARD
TZOFFSETFROM:-0400
TZOFFSETTO:-0500
TZNAME:EST
DTSTART:20261101T060000
END:STANDARD
BEGIN:DAYLIGHT
TZOFFSETFROM:-0500
TZOFFSETTO:-0400
TZNAME:EDT
DTSTART:20270314T070000
END:DAYLIGHT
BEGIN:STANDARD
TZOFFSETFROM:-0400
TZOFFSETTO:-0500
TZNAME:EST
DTSTART:20271107T060000
END:STANDARD
END:VTIMEZONE
BEGIN:VEVENT
DTSTART;TZID=America/New_York:20260613T093000
DTEND;TZID=America/New_York:20260613T120000
DTSTAMP:20260421T061426
CREATED:20260330T131743Z
LAST-MODIFIED:20260330T131743Z
UID:10001506-1781343000-1781352000@jewishfederationcny.org
SUMMARY:Moving Up Shabbat
DESCRIPTION:This special Shabbat service celebrates academic and professional milestones\, including the announcement of the winner of the Pearlman Award.
URL:https://jewishfederationcny.org/event/moving-up-shabbat/
LOCATION:Congregation Beth Sholom-Chevra Shas\, 18 Patsy Lane\, Jamesville\, NY\, 13078\, United States
END:VEVENT
BEGIN:VEVENT
DTSTART;VALUE=DATE:20260613
DTEND;VALUE=DATE:20260614
DTSTAMP:20260421T061426
CREATED:20230306T161025Z
LAST-MODIFIED:20230306T161025Z
UID:10000330-1781308800-1781395199@jewishfederationcny.org
SUMMARY:Shabbat Mevarchim Chodesh Tamuz
DESCRIPTION:Molad Tamuz: Mon; 46 minutes and 16 chalakim after 6:00
URL:https://jewishfederationcny.org/event/shabbat-mevarchim-chodesh-tamuz-4/
LOCATION:NY
END:VEVENT
BEGIN:VEVENT
DTSTART;TZID=America/New_York:20260612T173000
DTEND;TZID=America/New_York:20260612T183000
DTSTAMP:20260421T061426
CREATED:20260120T140502Z
LAST-MODIFIED:20260120T140502Z
UID:10001425-1781285400-1781289000@jewishfederationcny.org
SUMMARY:TAY: Shabbat B'Yachad
DESCRIPTION:Join Temple Adath Yeshurun for an uplifting\, musical\, Kabbalat Shabbat Service in person\, together.
URL:https://jewishfederationcny.org/event/tay-shabbat-byachad/2026-06-12/
LOCATION:450 Kimber Road Syracuse\, NY 13224\, 450 Kimber Road\, Syracuse\, NY\, 13224
ORGANIZER;CN="Alicia Gross":MAILTO:info@adath.org
END:VEVENT
BEGIN:VEVENT
DTSTART;TZID=America/New_York:20260607T143000
DTEND;TZID=America/New_York:20260607T163000
DTSTAMP:20260421T061426
CREATED:20260130T152314Z
LAST-MODIFIED:20260130T152314Z
UID:10001450-1780842600-1780849800@jewishfederationcny.org
SUMMARY:Temple Concord Annual Meeting
DESCRIPTION:
URL:https://jewishfederationcny.org/event/temple-concord-annual-meeting/
LOCATION:450 Kimber Road Syracuse\, NY 13224\, 450 Kimber Road\, Syracuse\, NY\, 13224
ORGANIZER;CN="Aaron Spitzer-Temple Concord":MAILTO:aaron@templeconcord.org
END:VEVENT
BEGIN:VEVENT
DTSTART;TZID=America/New_York:20260607T110000
DTEND;TZID=America/New_York:20260607T140000
DTSTAMP:20260421T061426
CREATED:20250624T171521Z
LAST-MODIFIED:20250624T171521Z
UID:10000978-1780830000-1780840800@jewishfederationcny.org
SUMMARY:2026 Annual Meeting & Gala
DESCRIPTION:
URL:https://jewishfederationcny.org/event/2026-annual-meeting-gala/
LOCATION:Palladian Hall\, 101 South Salina St\, Syracuse\, NY\, 13202
END:VEVENT
BEGIN:VEVENT
DTSTART;TZID=America/New_York:20260606T093000
DTEND;TZID=America/New_York:20260606T120000
DTSTAMP:20260421T061426
CREATED:20260330T131538Z
LAST-MODIFIED:20260330T131538Z
UID:10001505-1780738200-1780747200@jewishfederationcny.org
SUMMARY:Pride Shabbat
DESCRIPTION:Join CBS-CS for our annual Pride Shabbat as we celebrate our LGBTQ+ congregants and the queer Jewish community.
URL:https://jewishfederationcny.org/event/pride-shabbat/
LOCATION:Congregation Beth Sholom-Chevra Shas\, 18 Patsy Lane\, Jamesville\, NY\, 13078\, United States
END:VEVENT
BEGIN:VEVENT
DTSTART;TZID=America/New_York:20260605T173000
DTEND;TZID=America/New_York:20260605T183000
DTSTAMP:20260421T061426
CREATED:20260120T140502Z
LAST-MODIFIED:20260120T140502Z
UID:10001424-1780680600-1780684200@jewishfederationcny.org
SUMMARY:TAY: Shabbat B'Yachad
DESCRIPTION:Join Temple Adath Yeshurun for an uplifting\, musical\, Kabbalat Shabbat Service in person\, together.
URL:https://jewishfederationcny.org/event/tay-shabbat-byachad/2026-06-05/
LOCATION:450 Kimber Road Syracuse\, NY 13224\, 450 Kimber Road\, Syracuse\, NY\, 13224
ORGANIZER;CN="Alicia Gross":MAILTO:info@adath.org
END:VEVENT
BEGIN:VEVENT
DTSTART;TZID=America/New_York:20260604T180000
DTEND;TZID=America/New_York:20260604T193000
DTSTAMP:20260421T061426
CREATED:20250910T192642Z
LAST-MODIFIED:20250910T192642Z
UID:10001107-1780596000-1780601400@jewishfederationcny.org
SUMMARY:SHDS Academic Fair and Spring Concert(Private Event)
DESCRIPTION:
URL:https://jewishfederationcny.org/event/shds-academic-fair-and-spring-concertprivate-event/
LOCATION:NY
END:VEVENT
BEGIN:VEVENT
DTSTART;TZID=America/New_York:20260603T124500
DTEND;TZID=America/New_York:20260603T134500
DTSTAMP:20260421T061426
CREATED:20260316T204449Z
LAST-MODIFIED:20260316T204449Z
UID:10001492-1780490700-1780494300@jewishfederationcny.org
SUMMARY:JCC Mystery Book Club: None of This is True by Lisa Jewell
DESCRIPTION:Love a mystery? Then be sure to join us for the Mystery Book Club which explores classic who-dun-its\, thrillers and everything in between. This book club meets the first Wednesday of the month\, 12:45 – 1:45 pm. \n“None of this is True”: Celebrating her forty-fifth birthday at her local pub\, popular podcaster Alix Summer crosses paths with an unassuming woman called Josie Fair. Josie\, it turns out\, is also celebrating her forty-fifth birthday. They are\, in fact\, birthday twins. \nA few days later\, Alix and Josie bump into each other again\, this time outside Alix’s children’s school. Josie has been listening to Alix’s podcasts and thinks she might be an interesting subject for her series. She is\, she tells Alix\, on the cusp of great changes in her life. \nJosie’s life appears to be strange and complicated\, and although Alix finds her unsettling\, she can’t quite resist the temptation to keep making the podcast. Slowly she starts to realize that Josie has been hiding some very dark secrets\, and before she knows it\, Josie has inveigled her way into Alix’s life—and into her home. \nBut\, as quickly as she arrived\, Josie disappears. Only then does Alix discover that Josie has left a terrible and terrifying legacy in her wake\, and that Alix has become the subject of her own true crime podcast\, with her life and her family’s lives under mortal threat. \nWho is Josie Fair? And what has she done?
URL:https://jewishfederationcny.org/event/jcc-mystery-book-club-none-of-this-is-true-by-lisa-jewell/
LOCATION:JCC Auditorium
ORGANIZER;CN="Raven DiSalvo-Hess":MAILTO:rdisalvo-hess@jccsyr.org
END:VEVENT
BEGIN:VEVENT
DTSTART;TZID=America/New_York:20260601T183000
DTEND;TZID=America/New_York:20260601T203000
DTSTAMP:20260421T061426
CREATED:20260415T161337Z
LAST-MODIFIED:20260415T161337Z
UID:10001512-1780338600-1780345800@jewishfederationcny.org
SUMMARY:Sesame: Book Talk & Cooking Demo
DESCRIPTION:Join the JCC of Syracuse and Temple Concord for a night of food and fun with Rachel Simons\, author and founder of Seed + Mill in NYC on Monday\, June 1 at 6:30 pm at the JCC. Rachel will discuss her cookbook Sesame: Global Recipes + Stories of an Ancient Seed as attendees enjoy a tasting of recipes from the book along with kosher wine. Then\, participants will put on their aprons and make a recipe from the book to take home. Get more details and register today: jccsyr.org/cp
URL:https://jewishfederationcny.org/event/sesame-book-talk-cooking-demo/
LOCATION:JCC of Syracuse\, 5655 Thompson Road\, DeWitt\, 13214\, United States
ORGANIZER;CN="Raven DiSalvo-Hess":MAILTO:rdisalvo-hess@jccsyr.org
END:VEVENT
BEGIN:VEVENT
DTSTART;TZID=America/New_York:20260531T153000
DTEND;TZID=America/New_York:20260531T170000
DTSTAMP:20260421T061426
CREATED:20260324T132014Z
LAST-MODIFIED:20260324T132014Z
UID:10001500-1780241400-1780246800@jewishfederationcny.org
SUMMARY:Catch the Sun with the PJ Library and Syracuse Hebrew Day School
DESCRIPTION:Join PJ Library and Syracuse Hebrew Day School for a sunshine filled afternoon filled with storytelling\, hands-on crafts and tasty treats!  Activities geared for ages 3-8 year olds\, but all ages are welcome!
URL:https://jewishfederationcny.org/event/catch-the-sun-with-the-pj-library-and-syracuse-hebrew-day-school/
LOCATION:JCC of Syracuse\, 5655 Thompson Road\, DeWitt\, 13214\, United States
ORGANIZER;CN="Miriam Klaben":MAILTO:pjcny@jccsyr.org
END:VEVENT
BEGIN:VEVENT
DTSTART;TZID=America/New_York:20260531T140000
DTEND;TZID=America/New_York:20260531T160000
DTSTAMP:20260421T061426
CREATED:20250922T131544Z
LAST-MODIFIED:20250922T131859Z
UID:10001118-1780236000-1780243200@jewishfederationcny.org
SUMMARY:CBS-CS Sisterhood Annual Meeting
DESCRIPTION:Join the CBS-CS Sisterhood for their annual meeting\, including a brief business meeting followed by a social gathering.
URL:https://jewishfederationcny.org/event/cbs-cs-sisterhood-annual-meeting/
LOCATION:18 Patsy Lane Jamesville\, NY 130778\, 18 Patsy Lane\, Jamesville\, NY\, 13078
ORGANIZER;CN="Karen Morton":MAILTO:gittel51@gmail.com
END:VEVENT
BEGIN:VEVENT
DTSTART;TZID=America/New_York:20260531T100000
DTEND;TZID=America/New_York:20260531T160000
DTSTAMP:20260421T061426
CREATED:20260119T190400Z
LAST-MODIFIED:20260119T190400Z
UID:10001405-1780221600-1780243200@jewishfederationcny.org
SUMMARY:Trip to Seabreeze
DESCRIPTION:Kids in grades 5-8 are invited to an exciting day at Seabreeze Amusement Park! Transportation will be provided to and from the park.
URL:https://jewishfederationcny.org/event/trip-to-seabreeze/
LOCATION:4600 Culver Rd\, Rochester NY 14622\, 4600 Culver Rd\, Rochester\, NY\, 14622
END:VEVENT
BEGIN:VEVENT
DTSTART;TZID=America/New_York:20260531T100000
DTEND;TZID=America/New_York:20260531T110000
DTSTAMP:20260421T061427
CREATED:20260330T142127Z
LAST-MODIFIED:20260330T142127Z
UID:10001509-1780221600-1780225200@jewishfederationcny.org
SUMMARY:Sanctuary 101
DESCRIPTION:Would you like to feel more comfortable in the sanctuary? Have you ever wondered about the etiquette\, protocol\, or choreography at a service? Come to Susie Jacob’s mini course to learn what to do\, when\, and why\, from Tallit to Torah.
URL:https://jewishfederationcny.org/event/sanctuary-101-4/
LOCATION:18 Patsy Lane Jamesville\, NY 130778\, 18 Patsy Lane\, Jamesville\, NY\, 13078
END:VEVENT
BEGIN:VEVENT
DTSTART;TZID=America/New_York:20260531T100000
DTEND;TZID=America/New_York:20260531T110000
DTSTAMP:20260421T061427
CREATED:20260326T190053Z
LAST-MODIFIED:20260326T190053Z
UID:10001503-1780221600-1780225200@jewishfederationcny.org
SUMMARY:Sanctuary 101
DESCRIPTION:Would you like to feel more comfortable in the sanctuary? Have you ever wondered about the etiquette\, protocol\, or choreography at a service? Come to Susie Jacob’s mini course to learn what to do\, when\, and why\, from Tallit to Torah.
URL:https://jewishfederationcny.org/event/sanctuary-101-2/
LOCATION:Congregation Beth Sholom-Chevra Shas\, 18 Patsy Lane\, Jamesville\, NY\, 13078\, United States
END:VEVENT
BEGIN:VEVENT
DTSTART;TZID=America/New_York:20260529T173000
DTEND;TZID=America/New_York:20260529T183000
DTSTAMP:20260421T061427
CREATED:20260120T140502Z
LAST-MODIFIED:20260120T140502Z
UID:10001423-1780075800-1780079400@jewishfederationcny.org
SUMMARY:TAY: Shabbat B'Yachad
DESCRIPTION:Join Temple Adath Yeshurun for an uplifting\, musical\, Kabbalat Shabbat Service in person\, together.
URL:https://jewishfederationcny.org/event/tay-shabbat-byachad/2026-05-29/
LOCATION:450 Kimber Road Syracuse\, NY 13224\, 450 Kimber Road\, Syracuse\, NY\, 13224
ORGANIZER;CN="Alicia Gross":MAILTO:info@adath.org
END:VEVENT
BEGIN:VEVENT
DTSTART;TZID=America/New_York:20260528T170000
DTEND;TZID=America/New_York:20260528T180000
DTSTAMP:20260421T061427
CREATED:20251001T175617Z
LAST-MODIFIED:20251001T175617Z
UID:10001122-1779987600-1779991200@jewishfederationcny.org
SUMMARY:SJFS/Group Home Meeting
DESCRIPTION:
URL:https://jewishfederationcny.org/event/sjfs-group-home-meeting/
LOCATION:Menorah Park\, 4101 E. Genesee Street\, Syracuse\, NY\, 13214
ORGANIZER;CN="Sheena Russell":MAILTO:srussell@menorahparkofcny.com
GEO:43.0382777;-76.0760575
X-APPLE-STRUCTURED-LOCATION;VALUE=URI;X-ADDRESS=Menorah Park 4101 E. Genesee Street Syracuse NY 13214;X-APPLE-RADIUS=500;X-TITLE=4101 E. Genesee Street:geo:-76.0760575,43.0382777
END:VEVENT
BEGIN:VEVENT
DTSTART;TZID=America/New_York:20260527T190000
DTEND;TZID=America/New_York:20260527T210000
DTSTAMP:20260421T061427
CREATED:20260126T204142Z
LAST-MODIFIED:20260126T204142Z
UID:10001442-1779908400-1779915600@jewishfederationcny.org
SUMMARY:CBS-CS Annual Meeting (Private Event)
DESCRIPTION:CBS-CS Annual Meeting (For Members Only)
URL:https://jewishfederationcny.org/event/cbs-cs-annual-meeting-private-event/
LOCATION:18 Patsy Lane Jamesville\, NY 130778\, 18 Patsy Lane\, Jamesville\, NY\, 13078
ORGANIZER;CN="Lawrence Wilde":MAILTO:lawrence.wilde@cbscs.org
END:VEVENT
BEGIN:VEVENT
DTSTART;TZID=America/New_York:20260527T183000
DTEND;TZID=America/New_York:20260527T200000
DTSTAMP:20260421T061427
CREATED:20250725T191442Z
LAST-MODIFIED:20250725T191442Z
UID:10001033-1779906600-1779912000@jewishfederationcny.org
SUMMARY:Epstein School Board Meeting
DESCRIPTION:Board Meeting of the Rabbi Jacob H. Epstein School of Jewish Studies
URL:https://jewishfederationcny.org/event/epstein-school-board-meeting-19/
LOCATION:450 Kimber Road Syracuse\, NY 13224\, 450 Kimber Road\, Syracuse\, NY\, 13224
ORGANIZER;CN="Aaron Spitzer":MAILTO:aaron@templeconcord.org
END:VEVENT
BEGIN:VEVENT
DTSTART;TZID=America/New_York:20260527T164500
DTEND;TZID=America/New_York:20260527T183000
DTSTAMP:20260421T061427
CREATED:20250826T134708Z
LAST-MODIFIED:20260416T192330Z
UID:10001081-1779900300-1779906600@jewishfederationcny.org
SUMMARY:Foundation Annual Meeting
DESCRIPTION:
URL:https://jewishfederationcny.org/event/foundation-annual-meeting-2/
LOCATION:NY
ORGANIZER;CN="Mark Segel":MAILTO:msegel@jewishfederationcny.org
END:VEVENT
BEGIN:VEVENT
DTSTART;VALUE=DATE:20260523
DTEND;VALUE=DATE:20260524
DTSTAMP:20260421T061427
CREATED:20230306T161025Z
LAST-MODIFIED:20230306T161025Z
UID:10000329-1779494400-1779580799@jewishfederationcny.org
SUMMARY:Shavuot II
DESCRIPTION:Festival of Weeks
URL:https://jewishfederationcny.org/event/shavuot-ii-10/
LOCATION:NY
END:VEVENT
BEGIN:VEVENT
DTSTART;VALUE=DATE:20260522
DTEND;VALUE=DATE:20260523
DTSTAMP:20260421T061427
CREATED:20230306T161024Z
LAST-MODIFIED:20230306T161024Z
UID:10000328-1779408000-1779494399@jewishfederationcny.org
SUMMARY:Shavuot I
DESCRIPTION:Festival of Weeks
URL:https://jewishfederationcny.org/event/shavuot-i-10/
LOCATION:NY
END:VEVENT
BEGIN:VEVENT
DTSTART;VALUE=DATE:20260521
DTEND;VALUE=DATE:20260522
DTSTAMP:20260421T061427
CREATED:20230306T161023Z
LAST-MODIFIED:20230306T161023Z
UID:10000327-1779321600-1779407999@jewishfederationcny.org
SUMMARY:Erev Shavuot
DESCRIPTION:Festival of Weeks
URL:https://jewishfederationcny.org/event/erev-shavuot-9/
LOCATION:NY
END:VEVENT
BEGIN:VEVENT
DTSTART;TZID=America/New_York:20260520T193000
DTEND;TZID=America/New_York:20260520T203000
DTSTAMP:20260421T061427
CREATED:20250813T160120Z
LAST-MODIFIED:20250813T160120Z
UID:10001060-1779305400-1779309000@jewishfederationcny.org
SUMMARY:Temple Adath Yeshurun Board Meeting
DESCRIPTION:
URL:https://jewishfederationcny.org/event/temple-adath-yeshurun-board-meeting-10/
LOCATION:Temple Adath Yeshurun\, 450 Kimber Rd\, Syracuse\, NY\, 13224\, United States
ORGANIZER;CN="Alicia Gross":MAILTO:info@adath.org
END:VEVENT
BEGIN:VEVENT
DTSTART;TZID=America/New_York:20260519T190000
DTEND;TZID=America/New_York:20260519T200000
DTSTAMP:20260421T061427
CREATED:20250703T184127Z
LAST-MODIFIED:20250703T184127Z
UID:10000997-1779217200-1779220800@jewishfederationcny.org
SUMMARY:JCC Board of Directors Meeting
DESCRIPTION:
URL:https://jewishfederationcny.org/event/jcc-board-of-directors-meeting-6/
LOCATION:JCC Auditorium
END:VEVENT
BEGIN:VEVENT
DTSTART;TZID=America/New_York:20260519T180000
DTEND;TZID=America/New_York:20260519T190000
DTSTAMP:20260421T061427
CREATED:20250703T184226Z
LAST-MODIFIED:20250703T184226Z
UID:10000998-1779213600-1779217200@jewishfederationcny.org
SUMMARY:JCC Executive Committee Meeting
DESCRIPTION:
URL:https://jewishfederationcny.org/event/jcc-executive-committee-meeting-9/
LOCATION:JCC Conference Room\, 5655 Thompson Road\, DeWitt\, NY\, 13214
END:VEVENT
BEGIN:VEVENT
DTSTART;TZID=America/New_York:20260517T090000
DTEND;TZID=America/New_York:20260517T150000
DTSTAMP:20260421T061427
CREATED:20260120T142638Z
LAST-MODIFIED:20260217T200009Z
UID:10001426-1779008400-1779030000@jewishfederationcny.org
SUMMARY:Storytelling For Children With Adam Gidwitz
DESCRIPTION:Storytelling for Children\, a one-day festival celebrating oral traditions\, gateways to literacy\, universal human expression\, and new tales to tell. Hosted at the MOST and led by Congregation Beth Sholom-Chevra Shas\, this event will showcase storytellers of multiple cultural traditions\, and a live-taping and video recording of a new Grimm Fairy tale led by master storyteller and popular children’s podcast host of Grim\, Grimmer\, Grimmest\, Adam Gidwitz. \nAdam Gidwitz is a Jewish author and storyteller who has a modern take on retelling classic fairy tales. This includes the removal of anti-semitic tropes. He is also the author of a book about a young Jewish boy named Max in 1940’s London who is accompanied by kobold and a dybbuk. Bringing Gidwitz to Syracuse and creating a storytelling festival around his work displays the very best of the evolving cultural framework of fairy tales and folk lore. He upholds the universality of oral storytelling for children of all cultural and ethnic backgrounds\, and is inspired by the use of storytelling to propel literacy. Adam will be joined at this event by 4-6 other storytellers and artists; Jewish maggids\, African folk storyists\, refugees\, and illustrators. These professionals will be joined by volunteers who will host art activity stations at the MOST throughout the day.\n\n\n\n\n\nAdult and children’s tickets will be sold to be part of the live audience retelling of a classic Grimm Brothers Fairytale. VIP tickets will be available to a select 26 participants for an author meet & greet before the live taping. WCNY will be engaged to produce the podcast segment and create a video segment on the storytelling itself. The author agrees to allow free licensing usage of the podcast episode for all sponsors to use in their literacy\, education\, and media roles.
URL:https://jewishfederationcny.org/event/storytelling-for-children-with-adam-gidwitz/
LOCATION:The Most\, 500 S Franklin St\, Syracuse\, NY\, 13202
ORGANIZER;CN="Hanah Ehrenreich":MAILTO:admin@cbscs.org
END:VEVENT
BEGIN:VEVENT
DTSTART;VALUE=DATE:20260517
DTEND;VALUE=DATE:20260518
DTSTAMP:20260421T061427
CREATED:20230306T161023Z
LAST-MODIFIED:20230306T161023Z
UID:10000325-1778976000-1779062399@jewishfederationcny.org
SUMMARY:Rosh Chodesh Sivan
DESCRIPTION:Start of month of Sivan on the Hebrew calendar
URL:https://jewishfederationcny.org/event/rosh-chodesh-sivan-4/
LOCATION:NY
END:VEVENT
BEGIN:VEVENT
DTSTART;TZID=America/New_York:20260516T120000
DTEND;TZID=America/New_York:20260516T140000
DTSTAMP:20260421T061427
CREATED:20260122T143543Z
LAST-MODIFIED:20260122T143543Z
UID:10001428-1778932800-1778940000@jewishfederationcny.org
SUMMARY:Lunch & Learn: Bamidbar
DESCRIPTION:Join the Adult Learning Committee for a discussion on the next book in the Torah\, Bamidbar!
URL:https://jewishfederationcny.org/event/lunch-learn-bamidbar/
LOCATION:18 Patsy Lane Jamesville\, NY 130778\, 18 Patsy Lane\, Jamesville\, NY\, 13078
ORGANIZER;CN="Lawrence Wilde":MAILTO:lawrence.wilde@cbscs.org
END:VEVENT
BEGIN:VEVENT
DTSTART;VALUE=DATE:20260516
DTEND;VALUE=DATE:20260517
DTSTAMP:20260421T061427
CREATED:20230306T161020Z
LAST-MODIFIED:20230306T161020Z
UID:10000324-1778889600-1778975999@jewishfederationcny.org
SUMMARY:Shabbat Mevarchim Chodesh Sivan
DESCRIPTION:Molad Sivan: Sat; 2 minutes and 15 chalakim after 18:00
URL:https://jewishfederationcny.org/event/shabbat-mevarchim-chodesh-sivan-4/
LOCATION:NY
END:VEVENT
END:VCALENDAR