BEGIN:VCALENDAR
VERSION:2.0
PRODID:-//Jewish Federation of CNY - ECPv6.15.17.1//NONSGML v1.0//EN
CALSCALE:GREGORIAN
METHOD:PUBLISH
X-ORIGINAL-URL:https://jewishfederationcny.org
X-WR-CALDESC:Events for Jewish Federation of CNY
REFRESH-INTERVAL;VALUE=DURATION:PT1H
X-Robots-Tag:noindex
X-PUBLISHED-TTL:PT1H
BEGIN:VTIMEZONE
TZID:America/New_York
BEGIN:DAYLIGHT
TZOFFSETFROM:-0500
TZOFFSETTO:-0400
TZNAME:EDT
DTSTART:20240310T070000
END:DAYLIGHT
BEGIN:STANDARD
TZOFFSETFROM:-0400
TZOFFSETTO:-0500
TZNAME:EST
DTSTART:20241103T060000
END:STANDARD
BEGIN:DAYLIGHT
TZOFFSETFROM:-0500
TZOFFSETTO:-0400
TZNAME:EDT
DTSTART:20250309T070000
END:DAYLIGHT
BEGIN:STANDARD
TZOFFSETFROM:-0400
TZOFFSETTO:-0500
TZNAME:EST
DTSTART:20251102T060000
END:STANDARD
BEGIN:DAYLIGHT
TZOFFSETFROM:-0500
TZOFFSETTO:-0400
TZNAME:EDT
DTSTART:20260308T070000
END:DAYLIGHT
BEGIN:STANDARD
TZOFFSETFROM:-0400
TZOFFSETTO:-0500
TZNAME:EST
DTSTART:20261101T060000
END:STANDARD
END:VTIMEZONE
BEGIN:VEVENT
DTSTART;TZID=America/New_York:20250504T160000
DTEND;TZID=America/New_York:20250504T210000
DTSTAMP:20260424T063026
CREATED:20250307T191648Z
LAST-MODIFIED:20250307T191648Z
UID:10000938-1746374400-1746392400@jewishfederationcny.org
SUMMARY:Cantor Kari Siegel Eglash 10th Anniversary Celebration
DESCRIPTION:More details to follow.
URL:https://jewishfederationcny.org/event/cantor-kari-siegel-eglash-10th-anniversary-celebration/
LOCATION:Temple Concord\, 450 Kimber Rd\, Syracuse\, NY\, 13224\, United States
ORGANIZER;CN="Joan Lowenstein":MAILTO:joan@templeconcord.org
GEO:43.0450714;-76.1335497
X-APPLE-STRUCTURED-LOCATION;VALUE=URI;X-ADDRESS=Temple Concord 450 Kimber Rd Syracuse NY 13224 United States;X-APPLE-RADIUS=500;X-TITLE=450 Kimber Rd:geo:-76.1335497,43.0450714
END:VEVENT
BEGIN:VEVENT
DTSTART;TZID=America/New_York:20250505T183000
DTEND;TZID=America/New_York:20250505T200000
DTSTAMP:20260424T063026
CREATED:20250205T150725Z
LAST-MODIFIED:20250205T150725Z
UID:10000918-1746469800-1746475200@jewishfederationcny.org
SUMMARY:Managing the Ups and Downs of Being a Caregiver Series
DESCRIPTION:People are living longer and longer\, which means more people are or will be in the place of taking care of a parent\, spouse or other relative as they age. While caring for a loved one is often fulfilling\, it can also be an overwhelming task that puts strain on the caretakers and creates a maze of family dynamics as everyone’s roles shift. But don’t worry\, you’re not alone! Recognizing the ups and downs of caregiving\, the JCC has put together a 5-week lecture series in which you will learn about resources you and your givee may be eligible for\, how to handle the hard moments and the ways to find fulfillment in this role. \nWhether you have just begun your caregiving journey or are years in\, you are invited to join us to the below presentations. Each presentation will be followed by an audience Q&A as well as time for attendees to ask one-on-one questions to the speakers and mingle with each other. \nVisit jccsyr.org/cp to see the full list of topics and speakers.
URL:https://jewishfederationcny.org/event/managing-the-ups-and-downs-of-being-a-caregiver-series-5/
LOCATION:JCC of Syracuse\, 5655 Thompson Road\, DeWitt\, 13214\, United States
ORGANIZER;CN="Raven DiSalvo-Hess":MAILTO:rdisalvo-hess@jccsyr.org
END:VEVENT
BEGIN:VEVENT
DTSTART;TZID=America/New_York:20250506T190000
DTEND;TZID=America/New_York:20250506T203000
DTSTAMP:20260424T063026
CREATED:20250417T134832Z
LAST-MODIFIED:20250417T134832Z
UID:10000952-1746558000-1746563400@jewishfederationcny.org
SUMMARY:Israeli HUmor with Benji Lovitt
DESCRIPTION:
URL:https://jewishfederationcny.org/event/israeli-humor-with-benji-lovitt/
LOCATION:Congregation Beth Sholom-Chevas Shas\, 18 Patsy Lane\, Jamesville\, NY\, 13078\, United States
GEO:43.023377;-76.075275
X-APPLE-STRUCTURED-LOCATION;VALUE=URI;X-ADDRESS=Congregation Beth Sholom-Chevas Shas 18 Patsy Lane Jamesville NY 13078 United States;X-APPLE-RADIUS=500;X-TITLE=18 Patsy Lane:geo:-76.075275,43.023377
END:VEVENT
BEGIN:VEVENT
DTSTART;TZID=America/New_York:20250507T184500
DTEND;TZID=America/New_York:20250507T184500
DTSTAMP:20260424T063026
CREATED:20241203T165029Z
LAST-MODIFIED:20250116T145448Z
UID:10000901-1746643500-1746643500@jewishfederationcny.org
SUMMARY:Challah Braiding Workshop with the Challah Prince
DESCRIPTION:Idan Chabasov\, The Challah Prince\, was born and raised in Tel Aviv. He has always been an artist with a background in professional dancing and video production. Idan’s mission is to bring art into the baking world and demonstrate the beauty of every piece of Challah. The Challah Prince has been dedicating himself to community; sharing his creations and unique ways of braiding dough while personally communicating with community members.
URL:https://jewishfederationcny.org/event/challah-prince/
LOCATION:JCC of Syracuse\, 5655 Thompson Road\, DeWitt\, 13214\, United States
ORGANIZER;CN="jcc":MAILTO:pjcny@jccsyr.org
END:VEVENT
BEGIN:VEVENT
DTSTART;TZID=America/New_York:20250508T164500
DTEND;TZID=America/New_York:20250508T180000
DTSTAMP:20260424T063026
CREATED:20230601T143403Z
LAST-MODIFIED:20240903T152448Z
UID:10000422-1746722700-1746727200@jewishfederationcny.org
SUMMARY:Foundation Board Quarterly Meeting
DESCRIPTION:Foundation Quarterly Meeting
URL:https://jewishfederationcny.org/event/foundation-quarterly-meeting-5/
CATEGORIES:Events and Meetings
END:VEVENT
END:VCALENDAR