BEGIN:VCALENDAR
VERSION:2.0
PRODID:-//Jewish Federation of CNY - ECPv6.15.17.1//NONSGML v1.0//EN
CALSCALE:GREGORIAN
METHOD:PUBLISH
X-WR-CALNAME:Jewish Federation of CNY
X-ORIGINAL-URL:https://jewishfederationcny.org
X-WR-CALDESC:Events for Jewish Federation of CNY
REFRESH-INTERVAL;VALUE=DURATION:PT1H
X-Robots-Tag:noindex
X-PUBLISHED-TTL:PT1H
BEGIN:VTIMEZONE
TZID:America/New_York
BEGIN:DAYLIGHT
TZOFFSETFROM:-0500
TZOFFSETTO:-0400
TZNAME:EDT
DTSTART:20240310T070000
END:DAYLIGHT
BEGIN:STANDARD
TZOFFSETFROM:-0400
TZOFFSETTO:-0500
TZNAME:EST
DTSTART:20241103T060000
END:STANDARD
BEGIN:DAYLIGHT
TZOFFSETFROM:-0500
TZOFFSETTO:-0400
TZNAME:EDT
DTSTART:20250309T070000
END:DAYLIGHT
BEGIN:STANDARD
TZOFFSETFROM:-0400
TZOFFSETTO:-0500
TZNAME:EST
DTSTART:20251102T060000
END:STANDARD
BEGIN:DAYLIGHT
TZOFFSETFROM:-0500
TZOFFSETTO:-0400
TZNAME:EDT
DTSTART:20260308T070000
END:DAYLIGHT
BEGIN:STANDARD
TZOFFSETFROM:-0400
TZOFFSETTO:-0500
TZNAME:EST
DTSTART:20261101T060000
END:STANDARD
END:VTIMEZONE
BEGIN:VEVENT
DTSTART;TZID=America/New_York:20250729T190000
DTEND;TZID=America/New_York:20250729T200000
DTSTAMP:20260421T060234
CREATED:20250707T171325Z
LAST-MODIFIED:20250707T171325Z
UID:10001003-1753815600-1753819200@jewishfederationcny.org
SUMMARY:A Bisl Yiddish with David Simon
DESCRIPTION:
URL:https://jewishfederationcny.org/event/a-bisl-yiddish-with-david-simon/
LOCATION:450 Kimber Road Syracuse\, NY 13224\, 450 Kimber Road\, Syracuse\, NY\, 13224
ORGANIZER;CN="Alicia Goss":MAILTO:alicia@adath.org
END:VEVENT
BEGIN:VEVENT
DTSTART;TZID=America/New_York:20250730T183000
DTEND;TZID=America/New_York:20250730T193000
DTSTAMP:20260421T060234
CREATED:20250709T125323Z
LAST-MODIFIED:20250709T125323Z
UID:10001010-1753900200-1753903800@jewishfederationcny.org
SUMMARY:JCC: A Second-Generation Holocaust Survivor Shares Her Parents' Stories
DESCRIPTION:A Heartfelt Account of Survival and Resilience\nJoin us at the JCC as we welcome second-generation Holocaust survivor\, Einya Aaron\, to share the harrowing experiences of her parents during one of history’s darkest periods. Their stories\, filled with unimaginable hardships and remarkable resilience\, provide a poignant reminder of the atrocities of the Holocaust and the enduring strength of the human spirit.\nShe begins by introducing herself and explaining her motivation for sharing her parents’ stories. As the daughter of Holocaust survivors\, she feels a profound sense of responsibility to keep their memories alive and to educate future generations about the horrors they endured. Her parents’ experiences\, she emphasizes\, were not just historical accounts\, but deeply personal narratives that shaped their lives and those of their descendants.\nIn summary\, her parents were born in Poland. Her father was initially moved to a ghetto and then worked in 11 forced-labor camps\, eventually escaping on the way to a concentration camp. Her mother spent the war in a ghetto and later in a work camp. Their families\, except for her father’s sister\, all perished in the Holocaust. Her parents met after the war in a displaced persons camp and eventually moved to Israel\, where Einya Aaron was born.’\nThis event is co-hosted by Zikaron BiSalon and Chabad Lubavitch of CNY.
URL:https://jewishfederationcny.org/event/jcc-a-second-generation-holocaust-survivor-shares-her-parents-stories/
LOCATION:JCC of Syracuse\, 5655 Thompson Road\, DeWitt\, 13214\, United States
ORGANIZER;CN="Raven DiSalvo-Hess":MAILTO:rdisalvo-hess@jccsyr.org
END:VEVENT
BEGIN:VEVENT
DTSTART;VALUE=DATE:20250802
DTEND;VALUE=DATE:20250803
DTSTAMP:20260421T060234
CREATED:20230306T160834Z
LAST-MODIFIED:20230306T160834Z
UID:10000474-1754092800-1754179199@jewishfederationcny.org
SUMMARY:Shabbat Chazon
DESCRIPTION:Shabbat before Tish’a B’Av (Shabbat of Prophecy/Shabbat of Vision)
URL:https://jewishfederationcny.org/event/shabbat-chazon-3/
LOCATION:NY
END:VEVENT
BEGIN:VEVENT
DTSTART;VALUE=DATE:20250802
DTEND;VALUE=DATE:20250803
DTSTAMP:20260421T060234
CREATED:20230306T160838Z
LAST-MODIFIED:20230306T160838Z
UID:10000475-1754092800-1754179199@jewishfederationcny.org
SUMMARY:Erev Tish'a B'Av
DESCRIPTION:The Ninth of Av
URL:https://jewishfederationcny.org/event/erev-tisha-bav-8/
LOCATION:NY
END:VEVENT
BEGIN:VEVENT
DTSTART;TZID=America/New_York:20250802T210000
DTEND;TZID=America/New_York:20250802T223000
DTSTAMP:20260421T060234
CREATED:20250707T171512Z
LAST-MODIFIED:20250707T171512Z
UID:10001004-1754168400-1754173800@jewishfederationcny.org
SUMMARY:Tish'a B'Av with CBSCS & TAY
DESCRIPTION:
URL:https://jewishfederationcny.org/event/tisha-bav-with-cbscs-tay/
LOCATION:450 Kimber Road Syracuse\, NY 13224\, 450 Kimber Road\, Syracuse\, NY\, 13224
ORGANIZER;CN="Alicia Goss":MAILTO:alicia@adath.org
END:VEVENT
END:VCALENDAR