BEGIN:VCALENDAR
VERSION:2.0
PRODID:-//Jewish Federation of CNY - ECPv6.15.17.1//NONSGML v1.0//EN
CALSCALE:GREGORIAN
METHOD:PUBLISH
X-ORIGINAL-URL:https://jewishfederationcny.org
X-WR-CALDESC:Events for Jewish Federation of CNY
REFRESH-INTERVAL;VALUE=DURATION:PT1H
X-Robots-Tag:noindex
X-PUBLISHED-TTL:PT1H
BEGIN:VTIMEZONE
TZID:America/New_York
BEGIN:DAYLIGHT
TZOFFSETFROM:-0500
TZOFFSETTO:-0400
TZNAME:EDT
DTSTART:20250309T070000
END:DAYLIGHT
BEGIN:STANDARD
TZOFFSETFROM:-0400
TZOFFSETTO:-0500
TZNAME:EST
DTSTART:20251102T060000
END:STANDARD
BEGIN:DAYLIGHT
TZOFFSETFROM:-0500
TZOFFSETTO:-0400
TZNAME:EDT
DTSTART:20260308T070000
END:DAYLIGHT
BEGIN:STANDARD
TZOFFSETFROM:-0400
TZOFFSETTO:-0500
TZNAME:EST
DTSTART:20261101T060000
END:STANDARD
BEGIN:DAYLIGHT
TZOFFSETFROM:-0500
TZOFFSETTO:-0400
TZNAME:EDT
DTSTART:20270314T070000
END:DAYLIGHT
BEGIN:STANDARD
TZOFFSETFROM:-0400
TZOFFSETTO:-0500
TZNAME:EST
DTSTART:20271107T060000
END:STANDARD
END:VTIMEZONE
BEGIN:VEVENT
DTSTART;TZID=America/New_York:20260301T103000
DTEND;TZID=America/New_York:20260301T120000
DTSTAMP:20260421T101302
CREATED:20260216T142758Z
LAST-MODIFIED:20260216T142758Z
UID:10001463-1772361000-1772366400@jewishfederationcny.org
SUMMARY:Gan: Purim
DESCRIPTION:Gan is tailored for ages 2-5 but all ages welcome! Led by Rebbecca Oppedisano\, founder of Bluebird Music Together\, this toddler and preschool program is filled with learning through stories\, art\, music\, and movement! It is also a great way to meet parents of other little ones as we all learn together. \nEach monthly session features a holiday or theme.
URL:https://jewishfederationcny.org/event/gan-purim/
LOCATION:Temple Concord\, 450 Kimber Rd\, Syracuse\, NY\, 13224\, United States
ORGANIZER;CN="Aaron Spitzer-Temple Concord":MAILTO:aaron@templeconcord.org
GEO:43.0450714;-76.1335497
X-APPLE-STRUCTURED-LOCATION;VALUE=URI;X-ADDRESS=Temple Concord 450 Kimber Rd Syracuse NY 13224 United States;X-APPLE-RADIUS=500;X-TITLE=450 Kimber Rd:geo:-76.1335497,43.0450714
END:VEVENT
BEGIN:VEVENT
DTSTART;TZID=America/New_York:20260301T120000
DTEND;TZID=America/New_York:20260301T153000
DTSTAMP:20260421T101302
CREATED:20250326T185802Z
LAST-MODIFIED:20250326T185802Z
UID:10000947-1772366400-1772379000@jewishfederationcny.org
SUMMARY:Purim Carnival
DESCRIPTION:Additional details to follow
URL:https://jewishfederationcny.org/event/purim-carnival/
LOCATION:JCC of Syracuse\, 5655 Thompson Road\, DeWitt\, 13214\, United States
END:VEVENT
BEGIN:VEVENT
DTSTART;VALUE=DATE:20260302
DTEND;VALUE=DATE:20260303
DTSTAMP:20260421T101302
CREATED:20230306T160938Z
LAST-MODIFIED:20230306T160938Z
UID:10000530-1772409600-1772495999@jewishfederationcny.org
SUMMARY:Ta'anit Esther
DESCRIPTION:Fast of Esther
URL:https://jewishfederationcny.org/event/taanit-esther-8/
LOCATION:NY
END:VEVENT
BEGIN:VEVENT
DTSTART;VALUE=DATE:20260302
DTEND;VALUE=DATE:20260303
DTSTAMP:20260421T101302
CREATED:20230306T160939Z
LAST-MODIFIED:20230306T160939Z
UID:10000531-1772409600-1772495999@jewishfederationcny.org
SUMMARY:Erev Purim
DESCRIPTION:Celebration of Jewish deliverance as told by Megilat Esther
URL:https://jewishfederationcny.org/event/erev-purim-8/
LOCATION:NY
END:VEVENT
BEGIN:VEVENT
DTSTART;TZID=America/New_York:20260302T173000
DTEND;TZID=America/New_York:20260302T193000
DTSTAMP:20260421T101302
CREATED:20260216T142011Z
LAST-MODIFIED:20260216T142440Z
UID:10001462-1772472600-1772479800@jewishfederationcny.org
SUMMARY:TC: Megillah Madness - A Purim Celebration for the Whole Family!
DESCRIPTION:Can you unlock the Megillah? \nThis year\, Purim at Temple Concord turns into a game-show-style extravaganza that’s loud\, joyful\, and genuinely fun for all ages. \nWhat’s Happening? \n5:30-6:15 PM: Dinner\, Games\, & Raffle Tickets on Sale \n6:15 PM: High-Energy\, interactive Megillah Reading featuring trivia questions & Live Family Feud-style competition \nAfter the Megillah: Dessert & Raffle Winners Announced!\nGames inspired by classic favorites: Jeopardy\, Family Feud\, The Price is Right\, and Let’s Make a Deal \nPlenty of games and activities for kids of all ages — from littles to teens to grown-ups who get a little too competitive! \nPurim-Megillah-Madness-Responses-Mishloach-Manot-2026-1
URL:https://jewishfederationcny.org/event/megillah-madness-a-purim-celebration-for-the-whole-family/
LOCATION:Temple Concord\, 450 Kimber Rd\, Syracuse\, NY\, 13224\, United States
ORGANIZER;CN="Aaron Spitzer-Temple Concord":MAILTO:aaron@templeconcord.org
GEO:43.0450714;-76.1335497
X-APPLE-STRUCTURED-LOCATION;VALUE=URI;X-ADDRESS=Temple Concord 450 Kimber Rd Syracuse NY 13224 United States;X-APPLE-RADIUS=500;X-TITLE=450 Kimber Rd:geo:-76.1335497,43.0450714
END:VEVENT
BEGIN:VEVENT
DTSTART;VALUE=DATE:20260303
DTEND;VALUE=DATE:20260304
DTSTAMP:20260421T101302
CREATED:20230306T160939Z
LAST-MODIFIED:20230306T160939Z
UID:10000532-1772496000-1772582399@jewishfederationcny.org
SUMMARY:Purim
DESCRIPTION:Celebration of Jewish deliverance as told by Megilat Esther
URL:https://jewishfederationcny.org/event/purim-8/
LOCATION:NY
END:VEVENT
BEGIN:VEVENT
DTSTART;VALUE=DATE:20260304
DTEND;VALUE=DATE:20260305
DTSTAMP:20260421T101302
CREATED:20230306T160940Z
LAST-MODIFIED:20230306T160940Z
UID:10000533-1772582400-1772668799@jewishfederationcny.org
SUMMARY:Shushan Purim
DESCRIPTION:Purim celebrated in Jerusalem and walled cities
URL:https://jewishfederationcny.org/event/shushan-purim-8/
LOCATION:NY
END:VEVENT
BEGIN:VEVENT
DTSTART;TZID=America/New_York:20260304T124500
DTEND;TZID=America/New_York:20260304T134500
DTSTAMP:20260421T101302
CREATED:20251211T143909Z
LAST-MODIFIED:20251211T143909Z
UID:10001385-1772628300-1772631900@jewishfederationcny.org
SUMMARY:JCC Mystery Book Club: Sharp Objects by Gillian Flynn
DESCRIPTION: \nLove a mystery? Then be sure to join us for the Mystery Book Club which explores classic who-dun-its\, thrillers and everything in between. \nJoin the JCC Mystery Book Club in March as we discuss Sharp Objects by Gillian Flynn. \nFresh from a brief stay at a psych hospital\, reporter Camille Preaker faces a troubling assignment: she must return to her tiny hometown to cover the murders of two preteen girls. For years\, Camille has hardly spoken to her neurotic\, hypochondriac mother or to the half-sister she barely knows: a beautiful thirteen-year-old with an eerie grip on the town. Now\, installed in her old bedroom in her family’s Victorian mansion\, Camille finds herself identifying with the young victims a bit too strongly. Dogged by her own demons\, she must unravel the psychological puzzle of her own past if she wants to get the story and survive this homecoming.
URL:https://jewishfederationcny.org/event/jcc-mystery-book-club-sharp-objects-by-gillian-flynn/
LOCATION:JCC of Syracuse\, 5655 Thompson Road\, DeWitt\, 13214\, United States
ORGANIZER;CN="Raven DiSalvo-Hess":MAILTO:rdisalvo-hess@jccsyr.org
END:VEVENT
BEGIN:VEVENT
DTSTART;TZID=America/New_York:20260306T170000
DTEND;TZID=America/New_York:20260306T203000
DTSTAMP:20260421T101302
CREATED:20260216T141409Z
LAST-MODIFIED:20260216T141409Z
UID:10001461-1772816400-1772829000@jewishfederationcny.org
SUMMARY:Simchat Shabbat
DESCRIPTION:March 2026 Temple Concord Simchat Shabbat\nPesach is around the corner — so before we clean out the cabinets and trade in our pasta for matzah\, join us for a joyful Simchat Shabbat filled with community\, music\, and a delicious pasta dinner together. \nBring your appetite (and your friends) for a warm\, welcoming Simchat Shabbat for all ages. \nJoin us for the March 2026 Simchat Shabbat!\n5 PM: Tot Shabbat with Rabbi and Cantor for our youngest members\n5:30 PM: Congregational Pasta Dinner for ALL!\n6:30 PM: Kabbalat Shabbat Service
URL:https://jewishfederationcny.org/event/simchat-shabbat/
LOCATION:Temple Concord\, 450 Kimber Rd\, Syracuse\, NY\, 13224\, United States
ORGANIZER;CN="Aaron Spitzer-Temple Concord":MAILTO:aaron@templeconcord.org
GEO:43.0450714;-76.1335497
X-APPLE-STRUCTURED-LOCATION;VALUE=URI;X-ADDRESS=Temple Concord 450 Kimber Rd Syracuse NY 13224 United States;X-APPLE-RADIUS=500;X-TITLE=450 Kimber Rd:geo:-76.1335497,43.0450714
END:VEVENT
BEGIN:VEVENT
DTSTART;TZID=America/New_York:20260306T173000
DTEND;TZID=America/New_York:20260306T183000
DTSTAMP:20260421T101302
CREATED:20260120T140502Z
LAST-MODIFIED:20260120T140502Z
UID:10001419-1772818200-1772821800@jewishfederationcny.org
SUMMARY:TAY: Shabbat B'Yachad
DESCRIPTION:Join Temple Adath Yeshurun for an uplifting\, musical\, Kabbalat Shabbat Service in person\, together.
URL:https://jewishfederationcny.org/event/tay-shabbat-byachad/2026-03-06/
LOCATION:450 Kimber Road Syracuse\, NY 13224\, 450 Kimber Road\, Syracuse\, NY\, 13224
ORGANIZER;CN="Alicia Gross":MAILTO:info@adath.org
END:VEVENT
BEGIN:VEVENT
DTSTART;VALUE=DATE:20260307
DTEND;VALUE=DATE:20260308
DTSTAMP:20260421T101302
CREATED:20230306T160940Z
LAST-MODIFIED:20230306T160940Z
UID:10000534-1772841600-1772927999@jewishfederationcny.org
SUMMARY:Shabbat Parah
DESCRIPTION:Shabbat of the Red Heifer
URL:https://jewishfederationcny.org/event/shabbat-parah-4/
LOCATION:NY
END:VEVENT
END:VCALENDAR