BEGIN:VCALENDAR
VERSION:2.0
PRODID:-//Jewish Federation of CNY - ECPv6.15.17.1//NONSGML v1.0//EN
CALSCALE:GREGORIAN
METHOD:PUBLISH
X-WR-CALNAME:Jewish Federation of CNY
X-ORIGINAL-URL:https://jewishfederationcny.org
X-WR-CALDESC:Events for Jewish Federation of CNY
REFRESH-INTERVAL;VALUE=DURATION:PT1H
X-Robots-Tag:noindex
X-PUBLISHED-TTL:PT1H
BEGIN:VTIMEZONE
TZID:America/New_York
BEGIN:DAYLIGHT
TZOFFSETFROM:-0500
TZOFFSETTO:-0400
TZNAME:EDT
DTSTART:20250309T070000
END:DAYLIGHT
BEGIN:STANDARD
TZOFFSETFROM:-0400
TZOFFSETTO:-0500
TZNAME:EST
DTSTART:20251102T060000
END:STANDARD
BEGIN:DAYLIGHT
TZOFFSETFROM:-0500
TZOFFSETTO:-0400
TZNAME:EDT
DTSTART:20260308T070000
END:DAYLIGHT
BEGIN:STANDARD
TZOFFSETFROM:-0400
TZOFFSETTO:-0500
TZNAME:EST
DTSTART:20261101T060000
END:STANDARD
BEGIN:DAYLIGHT
TZOFFSETFROM:-0500
TZOFFSETTO:-0400
TZNAME:EDT
DTSTART:20270314T070000
END:DAYLIGHT
BEGIN:STANDARD
TZOFFSETFROM:-0400
TZOFFSETTO:-0500
TZNAME:EST
DTSTART:20271107T060000
END:STANDARD
END:VTIMEZONE
BEGIN:VEVENT
DTSTART;TZID=America/New_York:20260322T100000
DTEND;TZID=America/New_York:20260322T110000
DTSTAMP:20260423T084532
CREATED:20251231T142944Z
LAST-MODIFIED:20251231T142944Z
UID:10001388-1774173600-1774177200@jewishfederationcny.org
SUMMARY:"Heart of a Stranger" Reading Group
DESCRIPTION:Join CBS-CS Members for a group discussion on “Heart of a Stranger: An Unlikely Rabbi’s Story of Faith\, Identity\, and Belonging” by Rabbi Angela Buchdahl. Born in South Korea in 1972 and raised by a Korean Buddhist mother and an Ashkenazi Jewish father in Tacoma\, Washington\, Buchdahl went on to become the first Asian American ordained as a rabbi and first as a cantor. Her new memoir\, Heart of a Stranger: An Unlikely Rabbi’s Story of Faith\, Identity\, and Belonging\, traces that journey\, from the embracing Jewish community she grew up in to finding herself the answer to a Jeopardy question (“What is rabbi?”) — and\, even more bizarrely\, picking up the phone one day to hear a hostage-taking gunman make demands of her as the “chief rabbi of the United States.”
URL:https://jewishfederationcny.org/event/heart-of-a-stranger-reading-group/
LOCATION:18 Patsy Lane Jamesville\, NY 130778\, 18 Patsy Lane\, Jamesville\, NY\, 13078
ORGANIZER;CN="Joan Bordett":MAILTO:jbordett18@gmail.com
END:VEVENT
BEGIN:VEVENT
DTSTART;TZID=America/New_York:20260322T100000
DTEND;TZID=America/New_York:20260322T110000
DTSTAMP:20260423T084532
CREATED:20260319T135620Z
LAST-MODIFIED:20260319T135620Z
UID:10001495-1774173600-1774177200@jewishfederationcny.org
SUMMARY:Jewish Perspectives on the Environment with Nir Becker and Rabbi Emanuel
DESCRIPTION:Join us on Sunday\, March 22\, from 10:00–11:00 am at Temple Concord for a thoughtful and timely conversation on Jewish perspectives on the environment. \nRabbi Ilan Emanuel will be joined by environmental economist Nir Becker for an engaging discussion exploring how Jewish values\, tradition\, and contemporary environmental thinking can speak to the urgent challenges facing our world today. \nThis program offers a chance to reflect on the intersection of Judaism\, ethics\, and environmental responsibility through conversation that is both rooted in Jewish wisdom and deeply relevant to our present moment. \nAll are welcome.
URL:https://jewishfederationcny.org/event/jewish-perspectives-on-the-environment-with-nir-becker-and-rabbi-emanuel/
LOCATION:450 Kimber Road Syracuse\, NY 13224\, 450 Kimber Road\, Syracuse\, NY\, 13224
END:VEVENT
BEGIN:VEVENT
DTSTART;TZID=America/New_York:20260322T100000
DTEND;TZID=America/New_York:20260322T180000
DTSTAMP:20260423T084532
CREATED:20250910T191623Z
LAST-MODIFIED:20250910T191623Z
UID:10001105-1774173600-1774202400@jewishfederationcny.org
SUMMARY:SHDS Drama Production(Private Event)
DESCRIPTION:
URL:https://jewishfederationcny.org/event/shds-drama-productionprivate-event/
LOCATION:NY
END:VEVENT
BEGIN:VEVENT
DTSTART;TZID=America/New_York:20260322T110000
DTEND;TZID=America/New_York:20260322T120000
DTSTAMP:20260423T084532
CREATED:20251120T204219Z
LAST-MODIFIED:20251120T204625Z
UID:10001373-1774177200-1774180800@jewishfederationcny.org
SUMMARY:TAY: Tikkun Olam Day
DESCRIPTION:The Temple Adath Yeshurun Religious School invites you to participate in Tikkun Olam Day with projects to help others.
URL:https://jewishfederationcny.org/event/tay-tikkun-olam-day/
LOCATION:450 Kimber Road Syracuse\, NY 13224\, 450 Kimber Road\, Syracuse\, NY\, 13224
ORGANIZER;CN="Alicia Gross":MAILTO:info@adath.org
END:VEVENT
BEGIN:VEVENT
DTSTART;TZID=America/New_York:20260323T181500
DTEND;TZID=America/New_York:20260323T191500
DTSTAMP:20260423T084532
CREATED:20260128T195711Z
LAST-MODIFIED:20260128T195711Z
UID:10001445-1774289700-1774293300@jewishfederationcny.org
SUMMARY:JCC: Caregiver Series -- Building Foundations of Caregiving: The Empowered Caregiver
DESCRIPTION: \nThis course explores the role of caregiver and changes they may experience\, building a support team and managing caregiver stress. Presented by Kerri Green\, Program Manager at the Alzheimer’s Association of Central New York Chapter.
URL:https://jewishfederationcny.org/event/jcc-caregiver-series-building-foundations-of-caregiving-the-empowered-caregiver/
LOCATION:JCC of Syracuse\, 5655 Thompson Road\, DeWitt\, 13214\, United States
ORGANIZER;CN="Raven DiSalvo-Hess":MAILTO:rdisalvo-hess@jccsyr.org
END:VEVENT
BEGIN:VEVENT
DTSTART;TZID=America/New_York:20260324T120000
DTEND;TZID=America/New_York:20260324T130000
DTSTAMP:20260423T084532
CREATED:20260323T151007Z
LAST-MODIFIED:20260323T151017Z
UID:10001499-1774353600-1774357200@jewishfederationcny.org
SUMMARY:PJ Library and SOMA Fitness Mommy & Me Class
DESCRIPTION:PJ Library and SOMA Fitness are excited to invite you to a strength-focused Mommy & Me class that blends playful interaction with purposeful movement. Designed for moms and their little ones\, ages 0-2
URL:https://jewishfederationcny.org/event/pj-library-and-soma-fitness-mommy-me-class/
LOCATION:JCC of Syracuse\, 5655 Thompson Road\, DeWitt\, 13214\, United States
ORGANIZER;CN="Miriam Klaben":MAILTO:pjcny@jccsyr.org
END:VEVENT
BEGIN:VEVENT
DTSTART;TZID=America/New_York:20260324T180000
DTEND;TZID=America/New_York:20260324T190000
DTSTAMP:20260423T084532
CREATED:20250703T183923Z
LAST-MODIFIED:20250703T183923Z
UID:10000995-1774375200-1774378800@jewishfederationcny.org
SUMMARY:JCC Executive Committee Meeting
DESCRIPTION:
URL:https://jewishfederationcny.org/event/jcc-executive-committee-meeting-7/
LOCATION:JCC Conference Room\, 5655 Thompson Road\, DeWitt\, NY\, 13214
END:VEVENT
BEGIN:VEVENT
DTSTART;TZID=America/New_York:20260324T190000
DTEND;TZID=America/New_York:20260324T200000
DTSTAMP:20260423T084532
CREATED:20250703T183815Z
LAST-MODIFIED:20250703T183815Z
UID:10000994-1774378800-1774382400@jewishfederationcny.org
SUMMARY:JCC Board of Directors Meeting
DESCRIPTION:
URL:https://jewishfederationcny.org/event/jcc-board-of-directors-meeting-5/
LOCATION:JCC Auditorium
END:VEVENT
BEGIN:VEVENT
DTSTART;TZID=America/New_York:20260325T190000
DTEND;TZID=America/New_York:20260325T210000
DTSTAMP:20260423T084532
CREATED:20251120T205230Z
LAST-MODIFIED:20251120T205230Z
UID:10001375-1774465200-1774472400@jewishfederationcny.org
SUMMARY:TAY: Mah Jongg
DESCRIPTION:Join us for a fun evening of Mah Jongg whether you are just learning or an old pro!
URL:https://jewishfederationcny.org/event/tay-mah-jongg/
LOCATION:450 Kimber Road Syracuse\, NY 13224\, 450 Kimber Road\, Syracuse\, NY\, 13224
ORGANIZER;CN="Alicia Gross":MAILTO:info@adath.org
END:VEVENT
BEGIN:VEVENT
DTSTART;TZID=America/New_York:20260326T180000
DTEND;TZID=America/New_York:20260326T200000
DTSTAMP:20260423T084532
CREATED:20251203T201600Z
LAST-MODIFIED:20260120T170833Z
UID:10001380-1774548000-1774555200@jewishfederationcny.org
SUMMARY:JCC: Four Winters Film Screening
DESCRIPTION:Join the JCC for a screening of the powerful film Four Winters which celebrates the stories of courageous Jewish fighters who\, despite unimaginable odds\, fought back fiercely against Hitler’s war machine. Although the Nazis seized and murdered millions of Jews during World War II\, they failed to capture an estimated 25\,000 who escaped into the forests of Eastern Europe. Instead of simply hiding\, these young men and women — many of them teenagers — banded together to fight back\, carrying out deadly acts of sabotage\, staging ambushes\, and waging clandestine warfare against the Nazis and their collaborators. Featuring interviews with the last living Partisans and also using rare archival film footage\, letters\, historic war records\, and artifacts from Partisans’ personal collections\, the film weaves together many strands to shatter the myth of Jewish passivity. ** Film Screening will be following by Zoomed-in Q&A with director **
URL:https://jewishfederationcny.org/event/jcc-four-winters-film-screening/
LOCATION:JCC of Syracuse\, 5655 Thompson Road\, DeWitt\, 13214\, United States
ORGANIZER;CN="Raven DiSalvo-Hess":MAILTO:rdisalvo-hess@jccsyr.org
END:VEVENT
BEGIN:VEVENT
DTSTART;VALUE=DATE:20260328
DTEND;VALUE=DATE:20260329
DTSTAMP:20260423T084532
CREATED:20230306T160956Z
LAST-MODIFIED:20230306T160956Z
UID:10000538-1774656000-1774742399@jewishfederationcny.org
SUMMARY:Shabbat HaGadol
DESCRIPTION:Shabbat before Pesach
URL:https://jewishfederationcny.org/event/shabbat-hagadol-4/
LOCATION:NY
END:VEVENT
BEGIN:VEVENT
DTSTART;VALUE=DATE:20260328
DTEND;VALUE=DATE:20260329
DTSTAMP:20260423T084532
CREATED:20230306T160956Z
LAST-MODIFIED:20230306T160956Z
UID:10000539-1774656000-1774742399@jewishfederationcny.org
SUMMARY:Yom HaAliyah
DESCRIPTION:Recognizes Aliyah; immigration to the Jewish State of Israel
URL:https://jewishfederationcny.org/event/yom-haaliyah-9/
LOCATION:NY
END:VEVENT
BEGIN:VEVENT
DTSTART;TZID=America/New_York:20260328T093000
DTEND;TZID=America/New_York:20260328T103000
DTSTAMP:20260423T084532
CREATED:20260204T191158Z
LAST-MODIFIED:20260204T191158Z
UID:10001453-1774690200-1774693800@jewishfederationcny.org
SUMMARY:Pesach Lunch & Learn with Rabbi Steinitz
DESCRIPTION:Join CBS-CS for a Torah Study led by Rabbi Steinitz all about Pesach!
URL:https://jewishfederationcny.org/event/pesach-lunch-learn-with-rabbi-steinitz/
LOCATION:18 Patsy Lane Jamesville\, NY 130778\, 18 Patsy Lane\, Jamesville\, NY\, 13078
END:VEVENT
END:VCALENDAR