BEGIN:VCALENDAR
VERSION:2.0
PRODID:-//Jewish Federation of CNY - ECPv6.15.17.1//NONSGML v1.0//EN
CALSCALE:GREGORIAN
METHOD:PUBLISH
X-ORIGINAL-URL:https://jewishfederationcny.org
X-WR-CALDESC:Events for Jewish Federation of CNY
REFRESH-INTERVAL;VALUE=DURATION:PT1H
X-Robots-Tag:noindex
X-PUBLISHED-TTL:PT1H
BEGIN:VTIMEZONE
TZID:America/New_York
BEGIN:DAYLIGHT
TZOFFSETFROM:-0500
TZOFFSETTO:-0400
TZNAME:EDT
DTSTART:20250309T070000
END:DAYLIGHT
BEGIN:STANDARD
TZOFFSETFROM:-0400
TZOFFSETTO:-0500
TZNAME:EST
DTSTART:20251102T060000
END:STANDARD
BEGIN:DAYLIGHT
TZOFFSETFROM:-0500
TZOFFSETTO:-0400
TZNAME:EDT
DTSTART:20260308T070000
END:DAYLIGHT
BEGIN:STANDARD
TZOFFSETFROM:-0400
TZOFFSETTO:-0500
TZNAME:EST
DTSTART:20261101T060000
END:STANDARD
BEGIN:DAYLIGHT
TZOFFSETFROM:-0500
TZOFFSETTO:-0400
TZNAME:EDT
DTSTART:20270314T070000
END:DAYLIGHT
BEGIN:STANDARD
TZOFFSETFROM:-0400
TZOFFSETTO:-0500
TZNAME:EST
DTSTART:20271107T060000
END:STANDARD
END:VTIMEZONE
BEGIN:VEVENT
DTSTART;TZID=America/New_York:20260816T120000
DTEND;TZID=America/New_York:20260816T160000
DTSTAMP:20260423T100038
CREATED:20250904T151221Z
LAST-MODIFIED:20251216T191827Z
UID:10001084-1786881600-1786896000@jewishfederationcny.org
SUMMARY:Klezfest 2026
DESCRIPTION:
URL:https://jewishfederationcny.org/event/klezfest-2026/
LOCATION:JCC of Syracuse\, 5655 Thompson Road\, DeWitt\, 13214\, United States
END:VEVENT
BEGIN:VEVENT
DTSTART;TZID=America/New_York:20260819T193000
DTEND;TZID=America/New_York:20260819T210000
DTSTAMP:20260423T100038
CREATED:20260224T214905Z
LAST-MODIFIED:20260224T214905Z
UID:10001469-1787167800-1787173200@jewishfederationcny.org
SUMMARY:CBS-CS Board of Trustees Meeting
DESCRIPTION:CBS-CS board meetings are the third Wednesday of every month at 7:30pm.
URL:https://jewishfederationcny.org/event/cbs-cs-board-of-trustees-meeting-2/
LOCATION:Congregation Beth Sholom-Chevra Shas\, 18 Patsy Lane\, Jamesville\, NY\, 13078\, United States
END:VEVENT
END:VCALENDAR