BEGIN:VCALENDAR
VERSION:2.0
PRODID:-//Jewish Federation of CNY - ECPv6.15.17.1//NONSGML v1.0//EN
CALSCALE:GREGORIAN
METHOD:PUBLISH
X-WR-CALNAME:Jewish Federation of CNY
X-ORIGINAL-URL:https://jewishfederationcny.org
X-WR-CALDESC:Events for Jewish Federation of CNY
REFRESH-INTERVAL;VALUE=DURATION:PT1H
X-Robots-Tag:noindex
X-PUBLISHED-TTL:PT1H
BEGIN:VTIMEZONE
TZID:America/New_York
BEGIN:DAYLIGHT
TZOFFSETFROM:-0500
TZOFFSETTO:-0400
TZNAME:EDT
DTSTART:20240310T070000
END:DAYLIGHT
BEGIN:STANDARD
TZOFFSETFROM:-0400
TZOFFSETTO:-0500
TZNAME:EST
DTSTART:20241103T060000
END:STANDARD
BEGIN:DAYLIGHT
TZOFFSETFROM:-0500
TZOFFSETTO:-0400
TZNAME:EDT
DTSTART:20250309T070000
END:DAYLIGHT
BEGIN:STANDARD
TZOFFSETFROM:-0400
TZOFFSETTO:-0500
TZNAME:EST
DTSTART:20251102T060000
END:STANDARD
BEGIN:DAYLIGHT
TZOFFSETFROM:-0500
TZOFFSETTO:-0400
TZNAME:EDT
DTSTART:20260308T070000
END:DAYLIGHT
BEGIN:STANDARD
TZOFFSETFROM:-0400
TZOFFSETTO:-0500
TZNAME:EST
DTSTART:20261101T060000
END:STANDARD
BEGIN:DAYLIGHT
TZOFFSETFROM:-0500
TZOFFSETTO:-0400
TZNAME:EDT
DTSTART:20270314T070000
END:DAYLIGHT
BEGIN:STANDARD
TZOFFSETFROM:-0400
TZOFFSETTO:-0500
TZNAME:EST
DTSTART:20271107T060000
END:STANDARD
END:VTIMEZONE
BEGIN:VEVENT
DTSTART;TZID=America/New_York:20260122T190000
DTEND;TZID=America/New_York:20260122T210000
DTSTAMP:20260419T110016
CREATED:20251120T192826Z
LAST-MODIFIED:20251120T192826Z
UID:10001353-1769108400-1769115600@jewishfederationcny.org
SUMMARY:Syracuse Hebrew Day School Parents Night Out for Current and Prospective Parents
DESCRIPTION:Prospective parents are invited to mingle with SHDS parents and staff over food and drinks at Of Moose and Mind in Manlius. Enjoy a fun evening\, meet other parents\, and discover what makes SHDS such a special place to learn and grow. \nEnjoy a special 10% in-store discount during the event!\n$10 per person • snacks & drinks included \nRSVP by January 20\, 2026\nhttps://shdsevents.corecommerce.com/parents-night-out/
URL:https://jewishfederationcny.org/event/syracuse-hebrew-day-school-parents-night-out-for-current-and-prospective-parents/
LOCATION:Syracuse Heberw Day School\, 5655 Thompson Road\, Syracuse\, NY\, 13214\, United States
ORGANIZER;CN="Melissa Klemperer":MAILTO:info@shds.org
END:VEVENT
BEGIN:VEVENT
DTSTART;TZID=America/New_York:20250604T190000
DTEND;TZID=America/New_York:20250604T210000
DTSTAMP:20260419T110016
CREATED:20250519T130742Z
LAST-MODIFIED:20250519T131535Z
UID:10000968-1749063600-1749070800@jewishfederationcny.org
SUMMARY:SHDS Parents Night Out
DESCRIPTION:Come mix\, mingle\, and make new connections at our fun and casual parents night out! \nSHDS
URL:https://jewishfederationcny.org/event/shds-parents-night-out/
LOCATION:Syracuse Hebrew Day School Library\, 5655 Thompson Road\, Dewitt\, NY\, 13214\, United States
ORGANIZER;CN="Melissa Klemperer":MAILTO:info@shds.org
GEO:43.0445867;-76.0741017
X-APPLE-STRUCTURED-LOCATION;VALUE=URI;X-ADDRESS=Syracuse Hebrew Day School Library 5655 Thompson Road Dewitt NY 13214 United States;X-APPLE-RADIUS=500;X-TITLE=5655 Thompson Road:geo:-76.0741017,43.0445867
END:VEVENT
END:VCALENDAR