BEGIN:VCALENDAR
VERSION:2.0
PRODID:-//Jewish Federation of CNY - ECPv6.15.17.1//NONSGML v1.0//EN
CALSCALE:GREGORIAN
METHOD:PUBLISH
X-ORIGINAL-URL:https://jewishfederationcny.org
X-WR-CALDESC:Events for Jewish Federation of CNY
REFRESH-INTERVAL;VALUE=DURATION:PT1H
X-Robots-Tag:noindex
X-PUBLISHED-TTL:PT1H
BEGIN:VTIMEZONE
TZID:America/New_York
BEGIN:DAYLIGHT
TZOFFSETFROM:-0500
TZOFFSETTO:-0400
TZNAME:EDT
DTSTART:20250309T070000
END:DAYLIGHT
BEGIN:STANDARD
TZOFFSETFROM:-0400
TZOFFSETTO:-0500
TZNAME:EST
DTSTART:20251102T060000
END:STANDARD
BEGIN:DAYLIGHT
TZOFFSETFROM:-0500
TZOFFSETTO:-0400
TZNAME:EDT
DTSTART:20260308T070000
END:DAYLIGHT
BEGIN:STANDARD
TZOFFSETFROM:-0400
TZOFFSETTO:-0500
TZNAME:EST
DTSTART:20261101T060000
END:STANDARD
BEGIN:DAYLIGHT
TZOFFSETFROM:-0500
TZOFFSETTO:-0400
TZNAME:EDT
DTSTART:20270314T070000
END:DAYLIGHT
BEGIN:STANDARD
TZOFFSETFROM:-0400
TZOFFSETTO:-0500
TZNAME:EST
DTSTART:20271107T060000
END:STANDARD
END:VTIMEZONE
BEGIN:VEVENT
DTSTART;TZID=America/New_York:20260503T093000
DTEND;TZID=America/New_York:20260503T113000
DTSTAMP:20260422T044833
CREATED:20260316T204642Z
LAST-MODIFIED:20260316T204642Z
UID:10001493-1777800600-1777807800@jewishfederationcny.org
SUMMARY:Introduction to Health & Wellness with Dr. Indu Gupta
DESCRIPTION:An interactive conversation with Dr. Indu Gupta\, former Health Commissioner\, about health and wellness and what it means to us.
URL:https://jewishfederationcny.org/event/introduction-to-health-wellness-with-dr-indu-gupta/
LOCATION:Temple Adath Yeshurun\, 450 Kimber Rd\, Syracuse\, NY\, 13224\, United States
ORGANIZER;CN="Alicia Gross":MAILTO:info@adath.org
END:VEVENT
BEGIN:VEVENT
DTSTART;TZID=America/New_York:20260520T193000
DTEND;TZID=America/New_York:20260520T203000
DTSTAMP:20260422T044833
CREATED:20250813T160120Z
LAST-MODIFIED:20250813T160120Z
UID:10001060-1779305400-1779309000@jewishfederationcny.org
SUMMARY:Temple Adath Yeshurun Board Meeting
DESCRIPTION:
URL:https://jewishfederationcny.org/event/temple-adath-yeshurun-board-meeting-10/
LOCATION:Temple Adath Yeshurun\, 450 Kimber Rd\, Syracuse\, NY\, 13224\, United States
ORGANIZER;CN="Alicia Gross":MAILTO:info@adath.org
END:VEVENT
BEGIN:VEVENT
DTSTART;TZID=America/New_York:20260617T193000
DTEND;TZID=America/New_York:20260617T203000
DTSTAMP:20260422T044833
CREATED:20250813T160146Z
LAST-MODIFIED:20250813T160146Z
UID:10001061-1781724600-1781728200@jewishfederationcny.org
SUMMARY:Temple Adath Yeshurun Board Meeting
DESCRIPTION:
URL:https://jewishfederationcny.org/event/temple-adath-yeshurun-board-meeting-11/
LOCATION:Temple Adath Yeshurun\, 450 Kimber Rd\, Syracuse\, NY\, 13224\, United States
ORGANIZER;CN="Alicia Gross":MAILTO:info@adath.org
END:VEVENT
BEGIN:VEVENT
DTSTART;TZID=America/New_York:20260624T193000
DTEND;TZID=America/New_York:20260624T203000
DTSTAMP:20260422T044833
CREATED:20250813T160309Z
LAST-MODIFIED:20250813T160309Z
UID:10001062-1782329400-1782333000@jewishfederationcny.org
SUMMARY:Temple Adath Yeshurun Board Meeting
DESCRIPTION:Annual Congressional Meeting
URL:https://jewishfederationcny.org/event/temple-adath-yeshurun-board-meeting-12/
LOCATION:Temple Adath Yeshurun\, 450 Kimber Rd\, Syracuse\, NY\, 13224\, United States
ORGANIZER;CN="Alicia Gross":MAILTO:info@adath.org
END:VEVENT
BEGIN:VEVENT
DTSTART;TZID=America/New_York:20261025T150000
DTEND;TZID=America/New_York:20261025T210000
DTSTAMP:20260422T044833
CREATED:20260304T183020Z
LAST-MODIFIED:20260304T183020Z
UID:10001474-1792940400-1792962000@jewishfederationcny.org
SUMMARY:TAY: Joey Weisenberg Scholar In Residence
DESCRIPTION:Jewish Singer-Songwriter Joey Weisenberg will lead a musical workshop and song session.
URL:https://jewishfederationcny.org/event/tay-joey-weisenberg-scholar-in-residence/
LOCATION:Temple Adath Yeshurun\, 450 Kimber Rd\, Syracuse\, NY\, 13224\, United States
ORGANIZER;CN="Alicia Gross":MAILTO:info@adath.org
END:VEVENT
END:VCALENDAR